BEGIN:VCALENDAR
VERSION:2.0
PRODID:-//兵庫県作業療法士会　研修案内 - ECPv6.7.0//NONSGML v1.0//EN
CALSCALE:GREGORIAN
METHOD:PUBLISH
X-ORIGINAL-URL:https://ot-hyogo.or.jp/file
X-WR-CALDESC:兵庫県作業療法士会　研修案内 のイベント
REFRESH-INTERVAL;VALUE=DURATION:PT1H
X-Robots-Tag:noindex
X-PUBLISHED-TTL:PT1H
BEGIN:VTIMEZONE
TZID:Asia/Tokyo
BEGIN:STANDARD
TZOFFSETFROM:+0900
TZOFFSETTO:+0900
TZNAME:JST
DTSTART:20230101T000000
END:STANDARD
END:VTIMEZONE
BEGIN:VEVENT
DTSTART;VALUE=DATE:20230121
DTEND;VALUE=DATE:20230123
DTSTAMP:20260424T082619
CREATED:20221108T031537Z
LAST-MODIFIED:20221108T031537Z
UID:669-1674259200-1674431999@ot-hyogo.or.jp
SUMMARY:第14回訪問リハビリテーション管理者養成研修会STEP3　開催案内
DESCRIPTION:【オンライン開催】第14回訪問リハビリテーション管理者養成研修会STEP3 \n【主催】リハビリテーション専門職団体協議会（日本理学療法士協会、日本作業療法士協会、日本言語聴覚士協会） \n【要旨】訪問リハビリテーションのスペシャリストを育成するための、3協会合同の唯一の人材育成プログラムです。 \nZoomを利用したオンラインセミナーとなります。 \n■日時：2023年1月21日（土）～22日（日） \n■会場：オンライン開催 \n■ホームページ： http://www.hvrpf.jp/4248 \n■お申込み：https://ws.formzu.net/fgen/S64732028/ \n 
URL:https://ot-hyogo.or.jp/file/event/%e7%ac%ac14%e5%9b%9e%e8%a8%aa%e5%95%8f%e3%83%aa%e3%83%8f%e3%83%93%e3%83%aa%e3%83%86%e3%83%bc%e3%82%b7%e3%83%a7%e3%83%b3%e7%ae%a1%e7%90%86%e8%80%85%e9%a4%8a%e6%88%90%e7%a0%94%e4%bf%ae%e4%bc%9astep3
LOCATION:オンライン(Zoom)
CATEGORIES:その他主催の研修
END:VEVENT
BEGIN:VEVENT
DTSTART;TZID=Asia/Tokyo:20230122T090000
DTEND;TZID=Asia/Tokyo:20230122T150000
DTSTAMP:20260424T082619
CREATED:20221004T092217Z
LAST-MODIFIED:20230119T043340Z
UID:489-1674378000-1674399600@ot-hyogo.or.jp
SUMMARY:419「丹波北播磨ブロック現職者共通研修」締切(発表)11.04 (検討)12.23 (聴講)01.06
DESCRIPTION:テーマ\n2022年度丹波北播磨ブロック　現職者共通研修　事例報告・事例検討 \n内容\n現職者共通研修　事例報告・事例検討 \n日時\n2023年1月22日（日）9：00-15：00（演題数によって変更有） \n会場\nZOOMによるWEB開催\n※受付完了者に研修日の３日前（平日のみ）までにメールにてミーティングを配信します \n→1月19日（木）12時10分頃に研修に関するミーティング情報を送信しました（以下参照） \n【事務局より】419　丹波北播磨ブロック現職共通研修事例報告・検討（1/22）受講確定者へメールを送信しました \n定員\n発表者20名　（生涯教育ポイント２Pが発生します）\n検討者20名　（生涯教育ポイント２Pが発生します）\n聴講者40名　（生涯教育ポイントは発生しません） \n受講費\n発表者及び検討者　１，０００円　※聴講者は受講費不要です\n（銀行振り込みのみ対応） \n【振込みの際のご注意】\n「振込人名」の後に「タン419　OT協会番号」を追加してください。\n（例：ヒョウゴタロウ　タン419　12345）\n※振込人名後の「タン419」で本研修の受講費として処理します。忘れずにご入力をお願いいたします。振込人名のみ場合は確認連絡が届く可能性があります。\n※振込時にお手元に残る振込明細書（記録）は研修会開始まで保管ください。\n※受講料の入金と下記申込ボタンからの申し込みが揃った時点で受付完了となります。\nーいずれか一方でも確認できない場合、申し込みは自動キャンセルとなります。 \n【振込先口座】\n金融機関：三井住友銀行　普通口座　北須磨支店　5206374\n名義人 ：一般社団法人兵庫県作業療法士会 \n申込み条件\n会員として申し込むには申込時点で県士会員である必要があります。 \n受講条件\nオンラインでの研修会に参加される方は、参加条件・準備事項・個人情報保護について以下の資料を必ずご確認ください。 \nオンライン研修会に参加される皆さまへ \nオンライン研修における研修情報および個人情報保護について \n締め切り\n発表者締め切り　　　2022年　11月　 4日（金）13：00まで\n検討者締め切り　　　2022年　12月　23日（金）13：00まで\n聴講者締め切り　　　2023年　 1月　 6日（金）13：00まで \nその他\n１，発表者への連絡方法について\n2017年度から、発表申し込みをされた方に限り、締め切り後、研修会担当者から、以下の内容についてご連絡します。その際に、「マイページ　個人用メールアドレス」を使用されていただきます。ご了承下さい。\n受付終了後、今後のスケジュールを担当者から発表予定者に連絡させて頂きます。 \n①　ファシリテーターの情報：現職者共通研修「事例検討・事例報告」 発表者・ファシリ\nテーター確認についての資料をご記入頂き発表資料と一緒にご提出下さい。\n–\n現職者共通研修事例検討・報告　発表者・ファシリテーター確認について \n–\n抄録締め切り　　　　2023年1月 6日（金）13：00まで\nスライド締め切り　　2023年1月13日（金）13：00まで　＊PDFで提出してください\n（提出先は後日連絡します。） \n問い合わせ先\n土井病院リハビリテーション科　楳谷　TEL　0794-66-2119 \n－ \n全ての枠において申し込み受付は締め切りました\n－ \n 
URL:https://ot-hyogo.or.jp/file/event/419%e3%80%8c%e4%b8%b9%e6%b3%a2%e5%8c%97%e6%92%ad%e7%a3%a8%e3%83%96%e3%83%ad%e3%83%83%e3%82%af%e7%8f%be%e8%81%b7%e8%80%85%e5%85%b1%e9%80%9a%e7%a0%94%e4%bf%ae%e3%80%8d%e7%b7%a0%e5%88%87%e7%99%ba
LOCATION:オンライン(Zoom)
CATEGORIES:兵庫県作業療法士会主催の研修
END:VEVENT
BEGIN:VEVENT
DTSTART;TZID=Asia/Tokyo:20230122T130000
DTEND;TZID=Asia/Tokyo:20230122T164000
DTSTAMP:20260424T082619
CREATED:20221209T081811Z
LAST-MODIFIED:20230119T043305Z
UID:811-1674392400-1674405600@ot-hyogo.or.jp
SUMMARY:437「学校連携のできる セラピスト育成シンポジウム」締切1.17
DESCRIPTION:－\n　チラシのダウンロードはこちら\n－ \nテーマ\n育ちと学びの支援委員会　学校連携のできる　セラピスト育成シンポジウム \n内容\nセラピストが特別支援教育に関わることへの関心が高まっている。共生社会形成に向けたインクルーシブ教育の中で、セラピストがどのような役割を担って連携していくべきか、PT、OT、STの各セラピストの実践報告を通じ、その行方を探る。 \n日時\n2023年1月22日（日）　13:00～16:40 \n会場\n神戸臨床研究情報センター（TRI）　第1研修室 \n講師\n基調講演　　　大串　　幹　氏（兵庫県立リハビリテーション中央病院　診療部長）\nシンポジウム　井上　晃良　氏（姫路市総合福祉通園センター・ルネス花北）\nー　　　　　　開發　基文　氏（関西総合リハビリテーション専門学校）\nー　　　　　　田中　義之　氏（神戸総合医療専門学校） \n定員\n会場参加　80名\nオンライン参加　80名\n※オンライン参加の受付完了者には、研修日の３日前（平日のみ）までにメールにてミーティングを配信します \n→1月19日（木）13時30分頃にオンライン参加の方には研修に関するミーティング情報を、会場参加の方には開場時間等のお知らせを送信しました（以下参照） \n【事務局より】437 育ちと学びの支援委員会　学校連携のできるセラピスト育成シンポジウム（1/22）受講確定者へメールを送信しました \n生涯教育ポイント\n２P付与されます \n受講費\n各都道府県士会に在籍するPT・OT・ST　： 1\,000円\n上記以外：2\,000円\n（銀行振り込みのみ対応） \n【振込みの際のご注意】\n「振込人名」の後に「ソ437　OT協会番号」を追加してください。\n（例：ヒョウゴタロウ　ソ437　12345　協会番号のない方は　ソ437　のみを追加）\n※振込人名後の「ソ437」で本研修の受講費として処理します。忘れずにご入力をお願いいたします。振込人名のみ場合は確認連絡が届く可能性があります。\n※振込時にお手元に残る振込明細書（記録）は研修会開始まで保管ください。\n※受講料の入金と下記申込ボタンからの申し込みが揃った時点で受付完了となります。\nーいずれか一方でも確認できない場合、申し込みは自動キャンセルとなります。 \n【振込先口座】\n金融機関：三井住友銀行　普通口座　北須磨支店　5206374\n名義人 ：一般社団法人兵庫県作業療法士会 \n申込み条件\n☒　兵庫県士会員（兵庫県士会に在籍するPT\,OT\,ST）\n☒　その他（他府県士会に在籍するPT\,OT\,ST）\n☒　その他（一般、他職種、協会・他府県士会に在籍していないPT\,OT\,ST） \n受講条件\nオンラインでの研修会に参加される方は、参加条件・準備事項・個人情報保護について以下の資料を必ずご確認ください。 \nオンライン研修会に参加される皆さまへ \nオンライン研修における研修情報および個人情報保護について \n締め切り\n令和5年1月17日（火）　13:00 \n問い合わせ先\n関西総合リハビリテーション専門学校　　開發\n0799-60-3602 \n申し込み受付は終了しました
URL:https://ot-hyogo.or.jp/file/event/437%e3%80%8c%e5%ad%a6%e6%a0%a1%e9%80%a3%e6%90%ba%e3%81%ae%e3%81%a7%e3%81%8d%e3%82%8b-%e3%82%bb%e3%83%a9%e3%83%94%e3%82%b9%e3%83%88%e8%82%b2%e6%88%90%e3%82%b7%e3%83%b3%e3%83%9d%e3%82%b8%e3%82%a6
LOCATION:神戸臨床研究情報センター（TRI）　第1研修室
CATEGORIES:兵庫県作業療法士会主催の研修
END:VEVENT
END:VCALENDAR