BEGIN:VCALENDAR
VERSION:2.0
PRODID:-//兵庫県作業療法士会　研修案内 - ECPv6.7.0//NONSGML v1.0//EN
CALSCALE:GREGORIAN
METHOD:PUBLISH
X-WR-CALNAME:兵庫県作業療法士会　研修案内
X-ORIGINAL-URL:https://ot-hyogo.or.jp/file
X-WR-CALDESC:兵庫県作業療法士会　研修案内 のイベント
REFRESH-INTERVAL;VALUE=DURATION:PT1H
X-Robots-Tag:noindex
X-PUBLISHED-TTL:PT1H
BEGIN:VTIMEZONE
TZID:Asia/Tokyo
BEGIN:STANDARD
TZOFFSETFROM:+0900
TZOFFSETTO:+0900
TZNAME:JST
DTSTART:20230101T000000
END:STANDARD
END:VTIMEZONE
BEGIN:VEVENT
DTSTART;TZID=Asia/Tokyo:20230616T153000
DTEND;TZID=Asia/Tokyo:20230616T180000
DTSTAMP:20260424T012641
CREATED:20230515T045552Z
LAST-MODIFIED:20230515T045552Z
UID:1285-1686929400-1686938400@ot-hyogo.or.jp
SUMMARY:若手支援者の実践からキャリアを考える
DESCRIPTION:  \n【研修案内】若手支援者の実践からキャリアを考える
URL:https://ot-hyogo.or.jp/file/event/%e8%8b%a5%e6%89%8b%e6%94%af%e6%8f%b4%e8%80%85%e3%81%ae%e5%ae%9f%e8%b7%b5%e3%81%8b%e3%82%89%e3%82%ad%e3%83%a3%e3%83%aa%e3%82%a2%e3%82%92%e8%80%83%e3%81%88%e3%82%8b
LOCATION:兵庫教育大学神戸キャンパス
CATEGORIES:その他主催の研修
END:VEVENT
BEGIN:VEVENT
DTSTART;TZID=Asia/Tokyo:20230616T200000
DTEND;TZID=Asia/Tokyo:20230616T210000
DTSTAMP:20260424T012641
CREATED:20230522T051511Z
LAST-MODIFIED:20230522T051511Z
UID:1316-1686945600-1686949200@ot-hyogo.or.jp
SUMMARY:「神戸ブロック勉強会（小児分野）」締切6.15
DESCRIPTION:テーマ\n「脳性麻痺の基本的臨床像」 \n内容\n講義 \n日時\n2023年6月16日（金）\n20:00～21:00　 （19:50受付開始） \n場所（ツール）\nオンライン（zoomで開催） \n発表者\n一般社団法人　はなまる学園　福田菜里　氏 \n会場整理費\n無料 \n申し込み方法\nメールにて、以下の内容をお送りください。\n①氏名\n②所属\n③職種\n④経験年数 \n申し込み先\n（代表：井上） \n〆切\n2023年6月15日（木）17:00\n〆切後、申し込みいただいたメールアドレスへzoomの案内を送らせていただきます。
URL:https://ot-hyogo.or.jp/file/event/%e3%80%8c%e7%a5%9e%e6%88%b8%e3%83%96%e3%83%ad%e3%83%83%e3%82%af%e5%8b%89%e5%bc%b7%e4%bc%9a%ef%bc%88%e5%b0%8f%e5%85%90%e5%88%86%e9%87%8e%ef%bc%89%e3%80%8d%e7%b7%a0%e5%88%876-15
LOCATION:オンライン(Zoom)
CATEGORIES:兵庫県作業療法士会主催の研修
END:VEVENT
END:VCALENDAR