BEGIN:VCALENDAR
VERSION:2.0
PRODID:-//兵庫県作業療法士会　研修案内 - ECPv6.7.0//NONSGML v1.0//EN
CALSCALE:GREGORIAN
METHOD:PUBLISH
X-WR-CALNAME:兵庫県作業療法士会　研修案内
X-ORIGINAL-URL:https://ot-hyogo.or.jp/file
X-WR-CALDESC:兵庫県作業療法士会　研修案内 のイベント
REFRESH-INTERVAL;VALUE=DURATION:PT1H
X-Robots-Tag:noindex
X-PUBLISHED-TTL:PT1H
BEGIN:VTIMEZONE
TZID:Asia/Tokyo
BEGIN:STANDARD
TZOFFSETFROM:+0900
TZOFFSETTO:+0900
TZNAME:JST
DTSTART:20230101T000000
END:STANDARD
END:VTIMEZONE
BEGIN:VEVENT
DTSTART;VALUE=DATE:20230826
DTEND;VALUE=DATE:20230828
DTSTAMP:20260423T221318
CREATED:20230626T031156Z
LAST-MODIFIED:20230626T031156Z
UID:1432-1693008000-1693180799@ot-hyogo.or.jp
SUMMARY:【主催：日本作業科学研究会】第１回作業科学基礎入門研修会
DESCRIPTION:【主催】日本作業科学研究会（SIG） \n【研修会名】　第１回作業科学基礎入門研修会 \n【開催日時】2023年8月26日（土）～27日（日） \n【開催形式】ハイブリッド（現地orオンライン：zoom） \n【参加費】（資料代）3\,000 円 学生500円 \n【詳細はこちらから】日本作業科学研究会　講習・研修会 (jsso.jp) \n【研究会HP】http://www.jsso.jp \n【申込方法】下記googleフォームよりお願いいたします． \nhttps://forms.gle/uzDCs2KKfnHyQxRX9 \n締め切り：2023年8月18日（金）18：00まで \n※締め切り日までに入金してください． \n入金完了をもって受付完了といたします． \n【問合先・連絡先】小樽老人保健施設はまなす　池田 実佳 \nE-mail：mt0829.ot26@gmail.com
URL:https://ot-hyogo.or.jp/file/event/%e3%80%90%e4%b8%bb%e5%82%ac%ef%bc%9a%e6%97%a5%e6%9c%ac%e4%bd%9c%e6%a5%ad%e7%a7%91%e5%ad%a6%e7%a0%94%e7%a9%b6%e4%bc%9a%e3%80%91%e7%ac%ac%ef%bc%91%e5%9b%9e%e4%bd%9c%e6%a5%ad%e7%a7%91%e5%ad%a6%e5%9f%ba
LOCATION:ハイブリッド開催
CATEGORIES:その他主催の研修
END:VEVENT
BEGIN:VEVENT
DTSTART;VALUE=DATE:20230826
DTEND;VALUE=DATE:20230828
DTSTAMP:20260423T221318
CREATED:20230801T052230Z
LAST-MODIFIED:20230801T052230Z
UID:1565-1693008000-1693180799@ot-hyogo.or.jp
SUMMARY:日本高次脳機能障害学会 2023年夏期教育研修講座
DESCRIPTION:開催形式：　現地開催（ライブ配信無し）＋オンデマンド配信（事後1か月） \n  \n日　　程：　Ａコース「失語症状の診かた」　　　　2023年8月26日（土） \nＢコース「高次脳機能障害の診かた」　2023年8月27日（日） \n  \n＊ 各コースの単独受講，両コース通しての受講，いずれも可能です。 \n＊ 資料をダウンロードいただけます。現地受講の方には現地にて冊子を配布いたします。 \n  \n現地会場：　ナレッジキャピタル カンファレンスルーム B05+B06+B07 \n（大阪府大阪市北区大深町３－１ 北館内 グランフロント大阪） \nhttps://www.kc-space.jp/accessmap/ \n  \n＊　現地会場の定員は先着80名です。 \n  \n受 講 費：　現地＋オンデマンド　各コース　16\,000円（当学会正会員 8\,000円） \nオンデマンド　　　　各コース　12\,000円（当学会正会員 6\,000円） \n  \n申込期間：　現地＋オンデマンド受講　2023年7月3日（月）正午 ～ 8月20日（日）正午 \nオンデマンド受講　　　　2023年7月3日（月）正午 ～ 10月11日（日）正午 \n  \n＊ 両コース共通です。 \n  \n詳細ご案内・お申込みページ：　https://www.higherbrain.or.jp/06_kousyukai/10_index.html
URL:https://ot-hyogo.or.jp/file/event/%e6%97%a5%e6%9c%ac%e9%ab%98%e6%ac%a1%e8%84%b3%e6%a9%9f%e8%83%bd%e9%9a%9c%e5%ae%b3%e5%ad%a6%e4%bc%9a-2023%e5%b9%b4%e5%a4%8f%e6%9c%9f%e6%95%99%e8%82%b2%e7%a0%94%e4%bf%ae%e8%ac%9b%e5%ba%a7
LOCATION:ナレッジキャピタル カンファレンスルーム B05+B06+B07
CATEGORIES:その他主催の研修
END:VEVENT
BEGIN:VEVENT
DTSTART;TZID=Asia/Tokyo:20230826T130000
DTEND;TZID=Asia/Tokyo:20230826T160000
DTSTAMP:20260423T221318
CREATED:20230705T032421Z
LAST-MODIFIED:20230705T032421Z
UID:1453-1693054800-1693065600@ot-hyogo.or.jp
SUMMARY:第12回摂食嚥下障害研修会
DESCRIPTION:
URL:https://ot-hyogo.or.jp/file/event/%e7%ac%ac12%e5%9b%9e%e6%91%82%e9%a3%9f%e5%9a%a5%e4%b8%8b%e9%9a%9c%e5%ae%b3%e7%a0%94%e4%bf%ae%e4%bc%9a
LOCATION:兵庫県医師会館
CATEGORIES:その他主催の研修
END:VEVENT
BEGIN:VEVENT
DTSTART;TZID=Asia/Tokyo:20230826T130000
DTEND;TZID=Asia/Tokyo:20230826T193000
DTSTAMP:20260423T221318
CREATED:20230615T022727Z
LAST-MODIFIED:20230615T022727Z
UID:1408-1693054800-1693078200@ot-hyogo.or.jp
SUMMARY:【オンライン開催】訪問リハビリテーション実務者研修会（中央研修）
DESCRIPTION:【オンライン開催】訪問リハビリテーション実務者研修会（中央研修） \n【要旨】本研修では \n・訪問リハビリテーション従事者・事業所に必要な災害対応について \n・2024年から義務化されるBCP作成のポイントをお伝えいたします。 \n開催日：2023年8月26日（土） \n■会場：オンライン開催 \n■ホームページ： http://www.hvrpf.jp/4373 \n■お申込み：https://ws.formzu.net/fgen/S50566294/ \n 
URL:https://ot-hyogo.or.jp/file/event/%e3%80%90%e3%82%aa%e3%83%b3%e3%83%a9%e3%82%a4%e3%83%b3%e9%96%8b%e5%82%ac%e3%80%91%e8%a8%aa%e5%95%8f%e3%83%aa%e3%83%8f%e3%83%93%e3%83%aa%e3%83%86%e3%83%bc%e3%82%b7%e3%83%a7%e3%83%b3%e5%ae%9f%e5%8b%99
LOCATION:オンライン(Zoom)
CATEGORIES:その他主催の研修
END:VEVENT
END:VCALENDAR