BEGIN:VCALENDAR
VERSION:2.0
PRODID:-//兵庫県作業療法士会　研修案内 - ECPv6.7.0//NONSGML v1.0//EN
CALSCALE:GREGORIAN
METHOD:PUBLISH
X-ORIGINAL-URL:https://ot-hyogo.or.jp/file
X-WR-CALDESC:兵庫県作業療法士会　研修案内 のイベント
REFRESH-INTERVAL;VALUE=DURATION:PT1H
X-Robots-Tag:noindex
X-PUBLISHED-TTL:PT1H
BEGIN:VTIMEZONE
TZID:Asia/Tokyo
BEGIN:STANDARD
TZOFFSETFROM:+0900
TZOFFSETTO:+0900
TZNAME:JST
DTSTART:20230101T000000
END:STANDARD
END:VTIMEZONE
BEGIN:VEVENT
DTSTART;TZID=Asia/Tokyo:20231001T100000
DTEND;TZID=Asia/Tokyo:20231001T120000
DTSTAMP:20260423T190701
CREATED:20230823T120121Z
LAST-MODIFIED:20230928T022427Z
UID:1614-1696154400-1696161600@ot-hyogo.or.jp
SUMMARY:465「住宅の見方と訪問時の視点～住宅改修の前知識～」締切9.26
DESCRIPTION:9月28日（木）11時10分頃、受付完了者へ研修に関する案内を送信しました（以下参照） \n【事務局より】465　中播磨ブロック研修「住宅の見方と訪問時の視点」（10/1）受付完了者へメールを送信しました \nタイトル\n住宅の見方と訪問時の視点～住宅改修の前知識～（中播磨ブロック） \n内容\nもともと建築関係の会社に勤めていた視点から、住宅の基礎知識についてや写真の撮り方、図面の描き方などを教えていただきます。また、自宅訪問時の視点について症例を交えながら住宅改修についてわかりやすく講義していただきます。 \n日時\n１０月１日　１０：００ ～ １２：００（受付 ０９：３０～） \n会場\n石川病院　せせらぎ保育所2階 \n講師\n医療法人公人会　姫路中央病院　松岡　大樹先生 \n定員\n40名 \n生涯教育ポイント\n☒　２P付与されます \n受講費\n１０００円　銀行振込のみ対応（当日受付での支払い不可）\n【振込みの際のご注意】\n「振込人名」の後に「ナ465　OT協会番号」を追加してください。\n（例：ヒョウゴタロウ　ナ465　12345　）\n※振込人名後の「ナ465」で本研修の受講費として処理します。忘れずにご入力をお願いいたします。振込人名のみ場合は確認連絡が届く可能性があります。\n※振込時にお手元に残る振込明細書（記録）は研修会開始まで保管ください。\n※受講料の入金と下記申込ボタンからの申し込みが揃った時点で受付完了となります。\nーいずれか一方でも確認できない場合、申し込みは自動キャンセルとなります。 \n【振込先口座】\n金融機関：三井住友銀行　普通口座　北須磨支店　5206374\n名義人 ：一般社団法人兵庫県作業療法士会 \n申込み条件\n☒　兵庫県士会員\n☒　日本OT協会及び他府県士会の両方に所属するOT \n締め切り\n９月２６日（火）13時 \n問い合わせ先\n　中播磨ブロック長　野島 \n  \n申し込み受付は終了しました
URL:https://ot-hyogo.or.jp/file/event/465%e3%80%8c%e4%bd%8f%e5%ae%85%e3%81%ae%e8%a6%8b%e6%96%b9%e3%81%a8%e8%a8%aa%e5%95%8f%e6%99%82%e3%81%ae%e8%a6%96%e7%82%b9%ef%bd%9e%e4%bd%8f%e5%ae%85%e6%94%b9%e4%bf%ae%e3%81%ae%e5%89%8d%e7%9f%a5
LOCATION:石川病院　せせらぎ保育所2階
CATEGORIES:兵庫県作業療法士会主催の研修
END:VEVENT
BEGIN:VEVENT
DTSTART;TZID=Asia/Tokyo:20231001T100000
DTEND;TZID=Asia/Tokyo:20231001T150000
DTSTAMP:20260423T190701
CREATED:20230919T075357Z
LAST-MODIFIED:20230919T075357Z
UID:1684-1696154400-1696172400@ot-hyogo.or.jp
SUMMARY:第３４回　こうべ福祉・健康フェア
DESCRIPTION:
URL:https://ot-hyogo.or.jp/file/event/%e7%ac%ac%ef%bc%93%ef%bc%94%e5%9b%9e%e3%80%80%e3%81%93%e3%81%86%e3%81%b9%e7%a6%8f%e7%a5%89%e3%83%bb%e5%81%a5%e5%ba%b7%e3%83%95%e3%82%a7%e3%82%a2
LOCATION:こうべ市民福祉振興協会
CATEGORIES:その他主催の研修
END:VEVENT
END:VCALENDAR