BEGIN:VCALENDAR
VERSION:2.0
PRODID:-//兵庫県作業療法士会　研修案内 - ECPv6.7.0//NONSGML v1.0//EN
CALSCALE:GREGORIAN
METHOD:PUBLISH
X-ORIGINAL-URL:https://ot-hyogo.or.jp/file
X-WR-CALDESC:兵庫県作業療法士会　研修案内 のイベント
REFRESH-INTERVAL;VALUE=DURATION:PT1H
X-Robots-Tag:noindex
X-PUBLISHED-TTL:PT1H
BEGIN:VTIMEZONE
TZID:Asia/Tokyo
BEGIN:STANDARD
TZOFFSETFROM:+0900
TZOFFSETTO:+0900
TZNAME:JST
DTSTART:20230101T000000
END:STANDARD
END:VTIMEZONE
BEGIN:VEVENT
DTSTART;TZID=Asia/Tokyo:20231015T080000
DTEND;TZID=Asia/Tokyo:20231015T170000
DTSTAMP:20260423T190840
CREATED:20230607T032130Z
LAST-MODIFIED:20230607T032203Z
UID:1367-1697356800-1697389200@ot-hyogo.or.jp
SUMMARY:【奈良県士会主催】現職者選択研修　老年期障害領域
DESCRIPTION:【内容】現職者選択研修　老年期障害領域\n【日時】2023年10月9日（月・祝）と10月15日\n　　　　それぞれ9:00～12:10（全４講座を各日2講座ずつ分けて開催します）\n【開催方法】オンライン開催（Zoom）\n【参加費】4\,000円\n【申込方法】下記 申し込みフォームからお申し込み下さい。\nhttps://www.naraot.jp/nblog/?p=3968\n【主催】奈良県作業療法士会　教育部
URL:https://ot-hyogo.or.jp/file/event/%e3%80%90%e5%a5%88%e8%89%af%e7%9c%8c%e5%a3%ab%e4%bc%9a%e4%b8%bb%e5%82%ac%e3%80%91%e7%8f%be%e8%81%b7%e8%80%85%e9%81%b8%e6%8a%9e%e7%a0%94%e4%bf%ae%e3%80%80%e8%80%81%e5%b9%b4%e6%9c%9f%e9%9a%9c%e5%ae%b3-2
LOCATION:WEB
CATEGORIES:その他主催の研修
END:VEVENT
BEGIN:VEVENT
DTSTART;TZID=Asia/Tokyo:20231015T082000
DTEND;TZID=Asia/Tokyo:20231015T170000
DTSTAMP:20260423T190840
CREATED:20230905T050448Z
LAST-MODIFIED:20231012T043702Z
UID:1647-1697358000-1697389200@ot-hyogo.or.jp
SUMMARY:468「教育部 現職者選択研修」締切10.10
DESCRIPTION:タイトル\n教育部　現職者選択研修「発達障害領域」 \n日　時\n2023年10月15日（日）　8：20 ～ 17：00（受付 8：50～） \n会　場\nオンライン（Zoom）\n※受付完了者に研修日の３日前（平日のみ）までにメールにてミーティングを配信します \n→10月12日（木）13時20分頃に研修に関するミーティング情報を送信しました（以下参照） \n【事務局より】468「教育部 現職者選択研修」（10/15）受付完了者へメールを送信しました \n講　師\n丹葉 寛之 氏（和歌山リハビリテーション専門職大学準備室）\n中島 るみ 氏（大阪発達総合療育センター）\n中田 有里 氏（西宮市立こども未来センター）\n花家 竜三 氏（兵庫医科大学） \n定　員\n40名 \n生涯教育ポイント\n☒　２P付与されます \n受講費\n4000円（銀行振り込みのみ対応） \n【振込みの際のご注意】→受付終了のため削除しました \n申込み条件\n☒　兵庫県士会員\n☒　日本OT協会及び他府県士会の両方に所属するOT \n受講条件\nオンラインでの研修会に参加される方は、参加条件・準備事項・個人情報保護について以下の資料を必ずご確認ください。 \nオンライン研修会に参加される皆さまへ \nオンライン研修における研修情報および個人情報保護について \n締め切り\n10月10日（火）13時 \n問い合わせ先\n担当者　加藤\n連絡先　 \n申し込み受付は終了しました\n 
URL:https://ot-hyogo.or.jp/file/event/1647
LOCATION:オンライン(Zoom)
CATEGORIES:兵庫県作業療法士会主催の研修
END:VEVENT
BEGIN:VEVENT
DTSTART;TZID=Asia/Tokyo:20231015T133000
DTEND;TZID=Asia/Tokyo:20231015T163000
DTSTAMP:20260423T190840
CREATED:20230904T042506Z
LAST-MODIFIED:20230904T042506Z
UID:1640-1697376600-1697387400@ot-hyogo.or.jp
SUMMARY:令和5年度クリニカル・クラークシップに基づく作業療法臨床教育研究会　研修会
DESCRIPTION:研修会名：令和5年度クリニカル・クラークシップに基づく作業療法臨床教育研究会　研修会 \n  \n◆開催日時：令和5年10月15日（日）　13時30分 ～ 16時30分（13時00分受付開始） \n◆開催方法：オンライン（zoom） \n◆内容： \n大会テーマ：あらためてチェックリストの活用を考える \nクリニカル・クラークシップ（CCS）に基づく臨床実習の一つのツールとして「チェックリスト」があります。 \n臨床実習指導者講習会が開始され数年が経ち、CCS による臨床実習が浸透しつつあるなかで、チェックリストをうまく使えていないとの声も聞こえてきています。 \n今ここで、何のためのチェックリストなのかを参加者のみなさまと問い直してみたいと思っています。 \n  \n基調講演：花房　謙一 氏（目白大学保健医療学部作業療法学科） \n  \nチェックリスト活用例の報告 \n身体系：中澤　史江 氏（東京都立豊島病院　リハビリテーション科） \n発達系：中島　優介 氏（信濃医療福祉センター作業療法科） \n精神系：河埜康二郎 氏（千曲荘病院 なごみ） \n  \n◆参加費：会員 無料、非会員2000円 \n日本作業療法士協会会員は１ポイント付与されます。 \n  \n◆お申し込み期日：10月8日（日）まで \nパスマーケットというオンライン支払いシステムにてお申し込みを承ります。 \n下記のURL または右のQR コードからお申込みください。 \nhttps://passmarket.yahoo.co.jp/event/show/detail/02p1i9e36e731.html \n  \n◆お問い合わせ：クリニカル・クラークシップに基づく作業療法臨床教育研究会 \n事務局：担当：野村　e-mail : ccs_ot_education@yahoo.co.jp \nHP： https://ccs-ot-education.jimdo.com/ \n  \n研究大会資料は添付データにてご確認くださいますようよろしくお願いいたします。 \nhttps://ccs-ot-education.jimdofree.com/研修案内/
URL:https://ot-hyogo.or.jp/file/event/%e4%bb%a4%e5%92%8c5%e5%b9%b4%e5%ba%a6%e3%82%af%e3%83%aa%e3%83%8b%e3%82%ab%e3%83%ab%e3%83%bb%e3%82%af%e3%83%a9%e3%83%bc%e3%82%af%e3%82%b7%e3%83%83%e3%83%97%e3%81%ab%e5%9f%ba%e3%81%a5%e3%81%8f%e4%bd%9c
LOCATION:オンライン(Zoom)
CATEGORIES:その他主催の研修
END:VEVENT
END:VCALENDAR