BEGIN:VCALENDAR
VERSION:2.0
PRODID:-//兵庫県作業療法士会　研修案内 - ECPv6.7.0//NONSGML v1.0//EN
CALSCALE:GREGORIAN
METHOD:PUBLISH
X-WR-CALNAME:兵庫県作業療法士会　研修案内
X-ORIGINAL-URL:https://ot-hyogo.or.jp/file
X-WR-CALDESC:兵庫県作業療法士会　研修案内 のイベント
REFRESH-INTERVAL;VALUE=DURATION:PT1H
X-Robots-Tag:noindex
X-PUBLISHED-TTL:PT1H
BEGIN:VTIMEZONE
TZID:Asia/Tokyo
BEGIN:STANDARD
TZOFFSETFROM:+0900
TZOFFSETTO:+0900
TZNAME:JST
DTSTART:20230101T000000
END:STANDARD
END:VTIMEZONE
BEGIN:VEVENT
DTSTART;TZID=Asia/Tokyo:20231021T100000
DTEND;TZID=Asia/Tokyo:20231022T160000
DTSTAMP:20260423T190412
CREATED:20230921T055338Z
LAST-MODIFIED:20230921T055338Z
UID:1696-1697882400-1697990400@ot-hyogo.or.jp
SUMMARY:【オンラインセミナー】令和５年度 在宅リハビリテーション従事者研修会 《通所介護編》
DESCRIPTION:■令和5年度在宅リハビリテーション従事者研修会＜通所介護編＞ \n■日　　時 　2023年10月21日（土）～10月22日(日） \n訪問リハビリテーション振興財団ホームページ \nhttp://www.hvrpf.jp/4398
URL:https://ot-hyogo.or.jp/file/event/%e3%80%90%e3%82%aa%e3%83%b3%e3%83%a9%e3%82%a4%e3%83%b3%e3%82%bb%e3%83%9f%e3%83%8a%e3%83%bc%e3%80%91%e4%bb%a4%e5%92%8c%ef%bc%95%e5%b9%b4%e5%ba%a6-%e5%9c%a8%e5%ae%85%e3%83%aa%e3%83%8f%e3%83%93%e3%83%aa
CATEGORIES:その他主催の研修
END:VEVENT
BEGIN:VEVENT
DTSTART;TZID=Asia/Tokyo:20231022T100000
DTEND;TZID=Asia/Tokyo:20231022T120000
DTSTAMP:20260423T190412
CREATED:20230908T070055Z
LAST-MODIFIED:20231106T074720Z
UID:1659-1697968800-1697976000@ot-hyogo.or.jp
SUMMARY:469「中播磨ブロックＭＴＤＬＰ事例発表会」締切(発表・聴講)10.17
DESCRIPTION:10月19日（木）13時45分頃、受付完了者へ研修に関する案内を送信しました（以下参照） \n【事務局より】469　中播磨ブロック「MTDLP事例発表会」（10/22）受付完了者へメールを送信しました \nタイトル\n中播磨ブロックＭＴＤＬＰ事例発表会 \n内容\nMTDLP基礎研修修了した皆様には、次のステップである実践者研修修了を目指し、自施設で実践を行い、事例発表会にて発表頂きたいと思います。多数の発表よろしくお願いします。また以後発表を予定されている方は聴講者として参加することをおすすめします。 \n2018年度より、発表者は事例発表後に協会の事例報告を行いＭＴＤＬＰ指導者を目指す方（Aコース）と事例発表を行いＭＴＤＬＰ研修修了を目指す方（Bコース）で発表シートを選択できるようになっております。 \n発表者は、「MTDLP事例発表会発表資料変更のおしらせ」「MTDLP事例発表における発表者の皆様へ」をよく読み、資料の作成および事前準備をお願いします。発表に関しては「MTDLP事例発表会に向けたチェックリスト」を必ず参考にして準備をお願いします。 \nMTDLP事例発表会発表資料変更のおしらせ \nMTDLP事例発表における発表者の皆様へ \nMTDLP事例発表会に向けたチェックリスト \n日時\n１０月２２日　１０：００ ～ １２：００（受付 ０９：３０～） \n会　場\n医療法人　仁寿会　石川病院　せせらぎ保育園　二階\n※受講確定者には、研修日の３日前（平日のみ）までにメールにて受講に関するお知らせを配信致します。 \n  \n講　師\n医療法人内海慈仁会　姫路北病院　山本　真之先生 \n定　員：\n発表者　２名（生涯ポイント非該当）\n聴講者　１０名（生涯ポイント２ポイント） \n受講費 \n1\,000円（銀行振込のみ対応（当日受付での支払い不可）） \n【振込みの際のご注意】→受付終了のため削除しました \n受講条件\nMTDLP基礎研修（平成28年度～現職者選択研修MTDLP）修了者 \n締め切り\n発表申し込み：１０月１７日（火）　13時\n聴講申し込み：１０月１７日（火）　13時\n事例発表資料締切：１０月１０日（火） \nその他\n・発表者は各シートをそれぞれ１２部印刷し当日必ず持参してください。\n・聴講者は、MTDLP研修の要件を満たしません。\n・返信メールが届かない場合は、お問い合わせフォームからお問い合わせください。\n・締め切り後、研修会担当者から、発表者への連絡が必要な場合は「マイページ 個人用メールアドレス」を使用させていただきます。ご了承下さい。 \n問い合わせ先\n医療法人社団石橋内科　広畑センチュリー病院　奥見　将至（050-3091-1013） \n  \n発表者の方\n申し込み受付は終了しました\n聴講者の方\n申し込み受付は終了しました
URL:https://ot-hyogo.or.jp/file/event/1659
LOCATION:医療法人　仁寿会　石川病院　せせらぎ保育園　二階
CATEGORIES:兵庫県作業療法士会主催の研修
END:VEVENT
BEGIN:VEVENT
DTSTART;TZID=Asia/Tokyo:20231022T130000
DTEND;TZID=Asia/Tokyo:20231022T160000
DTSTAMP:20260423T190412
CREATED:20230927T022826Z
LAST-MODIFIED:20231020T043624Z
UID:1721-1697979600-1697990400@ot-hyogo.or.jp
SUMMARY:471『人々の「働きやすい」を支援する作業療法』締切10.19
DESCRIPTION:－\n　チラシのダウンロードはこちら \n  \n【当日受付も可能です】\n－ \nタイトル\n一般市民公開講座　人々の「働きやすい」を支援する作業療法 \n内容\n①映画上映：チョコレートな人々\n②特別講演：人々の「働きやすい」を支援する作業療法 \n日時\n10月22日　13：00 ～ 16：00（受付 12：30～） \n会場\nウィズあかし　子午線ホール（兵庫県明石市沖ノ町6番1号　アスピア明石北館9階） \n講師\n大谷 将之 氏（障がい者支援センター「てらだ」　作業療法士） \n定員\n150名 \n生涯教育ポイント\n☒　付与対象外です \n受講費\n無料・事前申込制 \n申込み条件\n☒　兵庫県士会員\n☒　日本OT協会及び他府県士会の両方に所属するOT\n☒　日本OT協会・他府県士会の一方のみ在籍している、またはいずれにも在籍していないOT\n☒　他職種、一般 \n締め切り\n10月19日（木）13時 \nその他\n下記申し込みフォームもしくはFAXで申し込みください \n問い合わせ先\n10月19日まで 兵庫県作業療法士会　事務局\nE- mail： \n10月20日以降と当日の緊急連絡先　兵庫県作業療法士会　広報啓発部\nE- mail：\n－\n－\n－\n　チラシのダウンロードはこちら\n－ \n事前申し込み受付は終了しました\n 
URL:https://ot-hyogo.or.jp/file/event/1721
LOCATION:ウィズあかし　子午線ホール
CATEGORIES:兵庫県作業療法士会主催の研修
END:VEVENT
END:VCALENDAR