BEGIN:VCALENDAR
VERSION:2.0
PRODID:-//兵庫県作業療法士会　研修案内 - ECPv6.7.0//NONSGML v1.0//EN
CALSCALE:GREGORIAN
METHOD:PUBLISH
X-ORIGINAL-URL:https://ot-hyogo.or.jp/file
X-WR-CALDESC:兵庫県作業療法士会　研修案内 のイベント
REFRESH-INTERVAL;VALUE=DURATION:PT1H
X-Robots-Tag:noindex
X-PUBLISHED-TTL:PT1H
BEGIN:VTIMEZONE
TZID:Asia/Tokyo
BEGIN:STANDARD
TZOFFSETFROM:+0900
TZOFFSETTO:+0900
TZNAME:JST
DTSTART:20230101T000000
END:STANDARD
END:VTIMEZONE
BEGIN:VEVENT
DTSTART;TZID=Asia/Tokyo:20231116T080000
DTEND;TZID=Asia/Tokyo:20231116T170000
DTSTAMP:20260423T174213
CREATED:20231110T041544Z
LAST-MODIFIED:20231110T041544Z
UID:2025-1700121600-1700154000@ot-hyogo.or.jp
SUMMARY:第47回日本高次脳機能障害学会学術総会
DESCRIPTION:【第47回日本高次脳機能障害学会学術総会】 \nテーマ「ひろがる　つながる　高次脳機能障害」 \n「動画・音声で学ぶ高次脳機能障害の症候：特徴と鑑別」 \n「脳卒中による高次脳機能障害の診断・治療の最前線」 \n「頭部外傷による高次脳機能障害の診断・治療の最前線」 \n「ワークショップ：高次脳機能障害者を支える」 \n「発達と加齢の高次脳機能」 \n「臨床からの視点　基礎からの視点：時間の感覚、空間の感覚」など \n  \n・ホームページ：https://www.congre.co.jp/jshbd2023/ \n・オンデマンド配信： 2023年11月16日（木）～12月15日（金）正午 \n※オンライン参加登録は12月15日（金）正午まで申し込み可能です \n・日本言語聴覚士協会の資格更新の単位に認定されています
URL:https://ot-hyogo.or.jp/file/event/%e7%ac%ac47%e5%9b%9e%e6%97%a5%e6%9c%ac%e9%ab%98%e6%ac%a1%e8%84%b3%e6%a9%9f%e8%83%bd%e9%9a%9c%e5%ae%b3%e5%ad%a6%e4%bc%9a%e5%ad%a6%e8%a1%93%e7%b7%8f%e4%bc%9a
LOCATION:オンデマンド配信
CATEGORIES:その他主催の研修
END:VEVENT
BEGIN:VEVENT
DTSTART;TZID=Asia/Tokyo:20231116T190000
DTEND;TZID=Asia/Tokyo:20231116T210000
DTSTAMP:20260423T174213
CREATED:20231006T093250Z
LAST-MODIFIED:20231113T044337Z
UID:1773-1700161200-1700168400@ot-hyogo.or.jp
SUMMARY:474「障害のある受刑者に対する作業療法」締切11.9
DESCRIPTION:タイトル\n東播磨ブロック「障害のある受刑者に対する作業療法」 \n内　容\n我が国の刑務所には、障害のある受刑者が罪を犯し、一定数入所しているのはご存じだろうか。障害のある受刑者にはどのような特徴があるのか、再犯防止に向けて、どのような教育が行われているのか紹介し、刑務所における作業療法の役割について述べる。また、出所後の社会復帰に向けた支援には何が必要か参加者と共に考えたい。 \n日　時\n１１月１６日　１９：００ ～ ２１：００（受付 １８：４５～） \n会　場\nオンライン（Zoom） \n※受付完了者に研修日の３日前（平日のみ）までにメールにてミーティングを配信します \n→11月13日（月）13時30分頃に研修に関するミーティング情報を送信しました（以下参照） \n【事務局より】474　東播磨ブロック研修会「障害のある受刑者に対する作業療法」（11/16）受付完了者へメールを送信しました \n講　師\n上原　央OTR（姫路医療専門学校） \n定　員\n30名 \n生涯教育ポイント\n☒　２P付与されます \n受講費\n1\,000円（銀行振り込みのみ対応） \n【振込みの際のご注意】\n「振込人名」の後に「ヒ474　OT協会番号」を追加してください。\n（例：ヒョウゴタロウ　ヒ474　12345　協会番号のない方は　ヒ474　のみを追加）\n※振込人名後の「ヒ474」で本研修の受講費として処理します。忘れずにご入力をお願いいたします。振込人名のみ場合は確認連絡が届く可能性があります。\n※振込時にお手元に残る振込明細書（記録）は研修会開始まで保管ください。\n※受講料の入金と下記申込ボタンからの申し込みが揃った時点で受付完了となります。\nーいずれか一方でも確認できない場合、申し込みは自動キャンセルとなります。 \n【振込先口座】\n金融機関：三井住友銀行　普通口座　北須磨支店　5206374\n名義人 ：一般社団法人兵庫県作業療法士会 \n申込み条件\n☒　兵庫県士会員\n☒　日本OT協会及び他府県士会の両方に所属するOT\n☒　日本OT協会・他府県士会の一方のみ在籍している、またはいずれにも在籍していないOT\n☒　他職種、一般 \n受講条件\nオンラインでの研修会に参加される方は、参加条件・準備事項・個人情報保護について以下の資料を必ずご確認ください。 \nオンライン研修会に参加される皆さまへ \nオンライン研修における研修情報および個人情報保護について \n締め切り\n１１月９日（木）13時 \n問い合わせ先\n大谷将之　 \n申し込み受付は終了しました
URL:https://ot-hyogo.or.jp/file/event/474
LOCATION:オンライン(Zoom)
CATEGORIES:兵庫県作業療法士会主催の研修
END:VEVENT
END:VCALENDAR