BEGIN:VCALENDAR
VERSION:2.0
PRODID:-//兵庫県作業療法士会　研修案内 - ECPv6.7.0//NONSGML v1.0//EN
CALSCALE:GREGORIAN
METHOD:PUBLISH
X-WR-CALNAME:兵庫県作業療法士会　研修案内
X-ORIGINAL-URL:https://ot-hyogo.or.jp/file
X-WR-CALDESC:兵庫県作業療法士会　研修案内 のイベント
REFRESH-INTERVAL;VALUE=DURATION:PT1H
X-Robots-Tag:noindex
X-PUBLISHED-TTL:PT1H
BEGIN:VTIMEZONE
TZID:Asia/Tokyo
BEGIN:STANDARD
TZOFFSETFROM:+0900
TZOFFSETTO:+0900
TZNAME:JST
DTSTART:20230101T000000
END:STANDARD
END:VTIMEZONE
BEGIN:VEVENT
DTSTART;TZID=Asia/Tokyo:20231117T193000
DTEND;TZID=Asia/Tokyo:20231117T213000
DTSTAMP:20260423T174029
CREATED:20230928T081159Z
LAST-MODIFIED:20231114T034358Z
UID:1736-1700249400-1700256600@ot-hyogo.or.jp
SUMMARY:472「高次脳機能障害を抱える方のADL（トイレ）の評価・介入」締切11.10
DESCRIPTION:11月14日（火）12時30分頃、受付完了者へ研修に関する案内を送信しました（以下参照） \n【事務局より】472　教育部阪神北南ブロック共催研修「高次脳機能障害を抱える方のADLの評価・介入」（11/17）受付完了者へメールを送信しました \nタイトル\n教育部研修会（阪神北南ブロック共催）\n高次脳機能障害を抱える方のADL（トイレ）の評価・介入 \n内容\n高次脳機能障害のある方のADLの診方・支援の実際（トイレ動作に着目して） \n日時\n2023年11月17日　19：30～ 21：30（受付 19：00～）\n※受講確定者には研修日の３日前（平日のみ）までにメールにて受講に関するお知らせを配信致します。 \n会場\n西宮市民会館（アミティ・ベイコムホール）　501号室 \n講師\n東　泰弘先生（森ノ宮医療大学　総合リハビリテーション学部　作業療法学科　大学院/保健医療学研究科） \n定員\n40名 \n生涯教育ポイント\n☒　２P付与されます \n受講費\n1000円　銀行振込のみ対応（当日受付での支払い不可） \n【振込みの際のご注意】\n「振込人名」の後に「ハ472　OT協会番号」を追加してください。\n（例：ヒョウゴタロウ　ハ472　12345　）\n※振込人名後の「ハ472」で本研修の受講費として処理します。忘れずにご入力をお願いいたします。振込人名のみ場合は確認連絡が届く可能性があります。\n※振込時にお手元に残る振込明細書（記録）は研修会開始まで保管ください。\n※受講料の入金と下記申込ボタンからの申し込みが揃った時点で受付完了となります。\nーいずれか一方でも確認できない場合、申し込みは自動キャンセルとなります。 \n【振込先口座】→受付終了のため削除しました。 \n申込み条件\n☒　兵庫県士会員\n☒　日本OT協会及び他府県士会の両方に所属するOT \n締め切り\n2023年11月10日（金）13時 \n問い合わせ先\n高橋　快（西宮協立リハビリテーション病院）　 \nー申し込み受付は終了しました\n 
URL:https://ot-hyogo.or.jp/file/event/1736
LOCATION:西宮市民会館（アミティ・ベイコムホール）　501号室
CATEGORIES:兵庫県作業療法士会主催の研修
END:VEVENT
BEGIN:VEVENT
DTSTART;TZID=Asia/Tokyo:20231117T194000
DTEND;TZID=Asia/Tokyo:20231117T210000
DTSTAMP:20260423T174029
CREATED:20231102T030919Z
LAST-MODIFIED:20231102T031541Z
UID:1972-1700250000-1700254800@ot-hyogo.or.jp
SUMMARY:「神戸ブロック勉強会（小児分野）」締切11.16
DESCRIPTION:テーマ\n「左右の認識が難しい正中をこえた運動が不器用な子どもたちのメカニズムとその支援」 \n内容\n講義 \n日時\n2023年11月17日（金）　 19:40～21:00　 （19:30受付開始） \n場所（ツール）\nオンライン（zoomで開催） \n発表者\n公益財団法人ひょうご子どもと家庭福祉財団　井上 \n会場整理費\n無料 \n申し込み方法\nメールにて、以下の内容をお送りください。\n①氏名　　 ②所属　　 ③職種　　 ④経験年数 \n申し込み先\n（代表：井上） \n〆切\n2023年11月16日（木）17:00 \n〆切後、申し込みいただいたメールアドレスへzoomの案内を送らせていただきます。
URL:https://ot-hyogo.or.jp/file/event/1972
LOCATION:オンライン(Zoom)
CATEGORIES:兵庫県作業療法士会主催の研修
END:VEVENT
END:VCALENDAR