BEGIN:VCALENDAR
VERSION:2.0
PRODID:-//兵庫県作業療法士会　研修案内 - ECPv6.7.0//NONSGML v1.0//EN
CALSCALE:GREGORIAN
METHOD:PUBLISH
X-ORIGINAL-URL:https://ot-hyogo.or.jp/file
X-WR-CALDESC:兵庫県作業療法士会　研修案内 のイベント
REFRESH-INTERVAL;VALUE=DURATION:PT1H
X-Robots-Tag:noindex
X-PUBLISHED-TTL:PT1H
BEGIN:VTIMEZONE
TZID:Asia/Tokyo
BEGIN:STANDARD
TZOFFSETFROM:+0900
TZOFFSETTO:+0900
TZNAME:JST
DTSTART:20230101T000000
END:STANDARD
END:VTIMEZONE
BEGIN:VEVENT
DTSTART;TZID=Asia/Tokyo:20231125T090000
DTEND;TZID=Asia/Tokyo:20231125T120000
DTSTAMP:20260423T174223
CREATED:20231025T064447Z
LAST-MODIFIED:20231025T064537Z
UID:1901-1700902800-1700913600@ot-hyogo.or.jp
SUMMARY:「兵庫県リハ３士会合同地域支援推進協議会 兵庫県介護支援専門員協会 合同研修」締切11.12
DESCRIPTION:－\n　チラシのダウンロードはこちら\n－\n\n－\n　チラシのダウンロードはこちら\n－
URL:https://ot-hyogo.or.jp/file/event/%e3%80%8c%e5%85%b5%e5%ba%ab%e7%9c%8c%e3%83%aa%e3%83%8f%ef%bc%93%e5%a3%ab%e4%bc%9a%e5%90%88%e5%90%8c%e5%9c%b0%e5%9f%9f%e6%94%af%e6%8f%b4%e6%8e%a8%e9%80%b2%e5%8d%94%e8%ad%b0%e4%bc%9a-%e5%85%b5%e5%ba%ab
LOCATION:Zoom・貸会議室 レンタルスペースジェム 大会議室A-1
CATEGORIES:その他主催の研修
END:VEVENT
BEGIN:VEVENT
DTSTART;TZID=Asia/Tokyo:20231125T093000
DTEND;TZID=Asia/Tokyo:20231125T153000
DTSTAMP:20260423T174223
CREATED:20231025T064847Z
LAST-MODIFIED:20231122T034643Z
UID:1909-1700904600-1700926200@ot-hyogo.or.jp
SUMMARY:484「認知症臨床作業療法士育成研修会 ステップⅢ」締切11.20
DESCRIPTION:11月22日（水）12時40分頃、受付完了者へ研修に関する案内を送信しました（以下参照） \n484　認知症臨床作業療法士育成研修　ステップⅢ（11/25）受付完了者へメールを送信しました \nタイトル\n認知症対策委員会\n認知症臨床作業療法士育成研修会　ステップⅢ　社会全体で認知症を支える \n内　容\n  \n\n\n\n9:30~ 9:50\n受付\n\n\n9:50~10:00\nオリエンテーション\n\n\n10:00~11:00\n認知症の人の生活を支援する職能団体としての役割\n\n\n11:00~11:10\n休憩\n\n\n11:10~12:10\n認知症対策委員会の取り組みと地域支援の事例\n\n\n12:10~13:00\n昼休憩\n\n\n13:00~15:20\nグループワーク\n\n\n15:20~15:30\nまとめ・アンケート記入\n\n\n\n  \n日　時\n11月25日㈯　9:30～15:30 \n会　場\nオンライン（Zoom） \n※受付完了者に研修日の３日前（平日のみ）までにメールにてミーティングを配信します \n講　師\n認知症対策委員会 \n定　員\n50名 \n生涯教育ポイント\n☒　２P付与されます \n受講費\n1000円（銀行振り込みのみ対応） \n【振込みの際のご注意】\n「振込人名」の後に「ニン484　OT協会番号」を追加してください。\n（例：ヒョウゴタロウ　ニン484　12345　）\n※振込人名後の「ニン484」で本研修の受講費として処理します。忘れずにご入力をお願いいたします。振込人名のみ場合は確認連絡が届く可能性があります。\n※振込時にお手元に残る振込明細書（記録）は研修会開始まで保管ください。\n※受講料の入金と下記申込ボタンからの申し込みが揃った時点で受付完了となります。\nーいずれか一方でも確認できない場合、申し込みは自動キャンセルとなります。 \n【振込先口座】→受付終了のため削除しました \n申込み条件\n☒　兵庫県士会員 \n受講条件\nオンラインでの研修会に参加される方は、参加条件・準備事項・個人情報保護について以下の資料を必ずご確認ください。 \nオンライン研修会に参加される皆さまへ \nオンライン研修における研修情報および個人情報保護について \n締め切り\n11月20日（月）13時 \nその他\n過去にステップⅡを受講された方が対象です。\n当日に画面共有や提出をして頂きますので、ステップⅢの課題ご準備をお願いします。 \n問い合わせ先\n関西総合リハビリテーション専門学校　前谷一旗\n\nー \n申込受付は終了しました
URL:https://ot-hyogo.or.jp/file/event/1909
LOCATION:オンライン(Zoom)
CATEGORIES:兵庫県作業療法士会主催の研修
END:VEVENT
END:VCALENDAR