BEGIN:VCALENDAR
VERSION:2.0
PRODID:-//兵庫県作業療法士会　研修案内 - ECPv6.7.0//NONSGML v1.0//EN
CALSCALE:GREGORIAN
METHOD:PUBLISH
X-ORIGINAL-URL:https://ot-hyogo.or.jp/file
X-WR-CALDESC:兵庫県作業療法士会　研修案内 のイベント
REFRESH-INTERVAL;VALUE=DURATION:PT1H
X-Robots-Tag:noindex
X-PUBLISHED-TTL:PT1H
BEGIN:VTIMEZONE
TZID:Asia/Tokyo
BEGIN:STANDARD
TZOFFSETFROM:+0900
TZOFFSETTO:+0900
TZNAME:JST
DTSTART:20240101T000000
END:STANDARD
END:VTIMEZONE
BEGIN:VEVENT
DTSTART;TZID=Asia/Tokyo:20240209T190000
DTEND;TZID=Asia/Tokyo:20240209T210000
DTSTAMP:20260423T132153
CREATED:20231207T085327Z
LAST-MODIFIED:20240502T024738Z
UID:2148-1707505200-1707512400@ot-hyogo.or.jp
SUMMARY:496「精神分野作業療法委員会 第3回研修会」締切2.4
DESCRIPTION:2月6日（火）13時40分頃に研修に関するミーティング情報をPeatixから送信しました（以下参照） \n496　精神分野作業療法委員会第３回研修会（2/9）受付完了者へメールを送信しました \nタイトル\n精神分野作業療法委員会　第3回研修会\n診療報酬を基礎から学ぶ　―令和6年度診療報酬改定に向けてー \n内　容\n今回の研修では，精神科医療、精神科病院がどのような診療報酬体系で運営されているのかを概説します。また、このような情報の入手方法も講師に説明していただきます。精神科の診療報酬体系に関して、作業療法士が知っておくべき基本的な知識を得ることができます。\n※医療監査対策などのご質問にはお答えしません。 \n日　時\n2024年2月9日　19：00〜21：00（受付 18：50～） \n会　場\nオンライン（Zoom）\n※受付完了者に研修日の３日前（平日のみ）までにメールにてミーティングを配信します \n講　師\n中前　智通　氏（神戸学院大学） \n定　員\n50名 \n生涯教育ポイント\n☒　２P付与されます \n受講費\n\n\n\n兵庫県士会員\n1\,150円\n\n\n日本OT協会及び他府県士会の両方に所属するOT\n1\,150円\n\n\n日本OT協会・他府県士会の一方のみの在籍、いずれにも在籍していないOT\n2\,150円\n\n\n（いずれもPeatix利用料150円を含む）\n\n\n\n申込み条件\n☒　兵庫県士会員\n☒　日本OT協会及び他府県士会の両方に所属するOT\n☒　日本OT協会・他府県士会の一方のみ在籍している、またはいずれにも在籍していないOT \n受講条件\nオンラインでの研修会に参加される方は、参加条件・準備事項・個人情報保護について以下の資料を必ずご確認ください。 \nオンライン研修会に参加される皆さまへ \nオンライン研修における研修情報および個人情報保護について \n締め切り\n2024年2月4日（日）13時 \n問い合わせ先\n　（森川孝子） \n  \n申し込み受付は修了しました \n  \n📝チラシのダウンロードはこちらから
URL:https://ot-hyogo.or.jp/file/event/2148
LOCATION:オンライン(Zoom)
CATEGORIES:兵庫県作業療法士会主催の研修
END:VEVENT
END:VCALENDAR