BEGIN:VCALENDAR
VERSION:2.0
PRODID:-//兵庫県作業療法士会　研修案内 - ECPv6.7.0//NONSGML v1.0//EN
CALSCALE:GREGORIAN
METHOD:PUBLISH
X-WR-CALNAME:兵庫県作業療法士会　研修案内
X-ORIGINAL-URL:https://ot-hyogo.or.jp/file
X-WR-CALDESC:兵庫県作業療法士会　研修案内 のイベント
REFRESH-INTERVAL;VALUE=DURATION:PT1H
X-Robots-Tag:noindex
X-PUBLISHED-TTL:PT1H
BEGIN:VTIMEZONE
TZID:Asia/Tokyo
BEGIN:STANDARD
TZOFFSETFROM:+0900
TZOFFSETTO:+0900
TZNAME:JST
DTSTART:20240101T000000
END:STANDARD
END:VTIMEZONE
BEGIN:VEVENT
DTSTART;TZID=Asia/Tokyo:20240216T183000
DTEND;TZID=Asia/Tokyo:20240216T203000
DTSTAMP:20260423T132009
CREATED:20240206T085607Z
LAST-MODIFIED:20240206T085748Z
UID:2435-1708108200-1708115400@ot-hyogo.or.jp
SUMMARY:「神戸東・阪神地区精神科勉強会」締切2.15
DESCRIPTION:●研修会名\n神戸東・阪神地区精神科勉強会 \n●テーマ\nプログラムの紹介と共有\n1.身体機能低下に対応するプログラム\n2.認知行動療法を取り入れたプログラム \n●内容\n各病院がテーマ1、2のプログラム紹介と共有 \n●日時\n2024年2月16日（金）\n時間:18:30〜20:30 \n●会場\n兵庫県立ひょうごこころの医療センター \n●講師\nなし \n●定員\n20名 \n●会場整理費\n無料 \n●申し込み方法\nメールにて、以下の内容をお送りください。\n※タイトルは「神戸東・阪神地区精神科勉強会」でお願いします。\n①氏名\n②所属\n③職種\n④経験年数 \n●申し込み先\n \n●問い合わせ先\nありまこうげんホスピタル\n山西慧治 \n●締め切り\n2024年2月15日(木)13:00
URL:https://ot-hyogo.or.jp/file/event/2435
LOCATION:兵庫県立ひょうごこころの医療センター
CATEGORIES:兵庫県作業療法士会主催の研修
END:VEVENT
BEGIN:VEVENT
DTSTART;TZID=Asia/Tokyo:20240216T190000
DTEND;TZID=Asia/Tokyo:20240216T210000
DTSTAMP:20260423T132009
CREATED:20240109T032641Z
LAST-MODIFIED:20240213T031546Z
UID:2261-1708110000-1708117200@ot-hyogo.or.jp
SUMMARY:501「第3回淡路ブロック研修会」締切2.8
DESCRIPTION:2月13日（火）12時10分頃、受付完了者へ研修に関する案内を送信しました（以下参照） \n501　淡路ブロック第３回ブロック研修会（2/16）受付完了者へメールを送信しました \nタイトル\n第3回淡路ブロック研修会「ADLについて」 \n内容\nトイレ動作に焦点をあてた研修会です。トイレ動作がスムーズに行えるようにポイント\nを絞りながらより具体的な実技を通し、知識・技術を深めていけるようなお話をしていただきます。\nトイレ動作で悩んでいるOTの方々、淡路島に集合です！ \n日時\n令和6年2月16日　19：00 ～ 21：00（受付 18：45～） \n会場\n洲本伊月病院\n※受付完了者には研修日の３日前（平日のみ）までにメールにて受講に関するお知らせを配信致します。 \n講師\n塗田一雄先生（介護老人保健施設 リハ・神戸） \n定員\n30名 \n生涯教育ポイント\n☒　２P付与されます \n受講費\n銀行振込のみ対応（当日受付での支払い不可） \n\n\n\n・県士会員（他府県士会含）\n：1\,000円\n\n\n・他府県士会員\n：1\,000円\n\n\n・ＯＴ協会員で県士会未入会\n：2\,000円\n\n\n・ＯＴ以外の医療職（PT，ST，看護師等）\n：500円\n\n\n・医療職種以外の方\n：無料\n\n\n\n–\n※未入会者（ＯＴ協会，県士会）：参加資格なし\n※ＯＴ協会休会制度利用中は，研修会への参加資格はない。\n※キャンセルポリシーについては、県士会ホームページを参照のこと。 \n【振込みの際のご注意】\n「振込人名」の後に「ア501　OT協会番号」を追加してください。\n（例：ヒョウゴタロウ　ア501　12345）\n※振込人名後の「ア501」で本研修の受講費として処理します。忘れずにご入力をお願いいたします。振込人名のみ場合は確認連絡が届く可能性があります。\n※振込時にお手元に残る振込明細書（記録）は研修会開始まで保管ください。\n※受講料の入金と下記申込ボタンからの申し込みが揃った時点で受付完了となります。\nーいずれか一方でも確認できない場合、申し込みは自動キャンセルとなります。 \n【振込先口座】→受付終了につき削除しました \n申込み条件\n☒　兵庫県士会員\n☒　日本OT協会及び他府県士会の両方に所属するOT\n☒　日本OT協会・他府県士会の一方のみ在籍している、またはいずれにも在籍していないOT\n☒　他職種、一般 \n締め切り\n２月８日（木）13時 \n問い合わせ先\n東　理恵子（洲本市国民健康保険五色診療所）\n– \n申し込み受付は終了しました
URL:https://ot-hyogo.or.jp/file/event/2261
LOCATION:洲本伊月病院
CATEGORIES:兵庫県作業療法士会主催の研修
END:VEVENT
BEGIN:VEVENT
DTSTART;TZID=Asia/Tokyo:20240216T193000
DTEND;TZID=Asia/Tokyo:20240216T220000
DTSTAMP:20260423T132009
CREATED:20240123T055523Z
LAST-MODIFIED:20240213T030217Z
UID:2354-1708111800-1708120800@ot-hyogo.or.jp
SUMMARY:504「西播磨ブロック MTDLP事例発表会」締切(発表/聴講)2.8
DESCRIPTION:2月13日（火）12時00分頃、受付完了者へ研修に関する案内を送信しました（以下参照） \n504　西播磨ブロックMTDLP事例発表会（2/16）受付完了者へメールを送信しました \nタイトル\n西播磨ブロック（ブロック・部署）ＭＴＤＬＰ事例発表会 \n内容\nMTDLP基礎研修修了した皆様には、次のステップである実践者研修修了を目指し、自施設で実践を行い、事例発表会にて発表頂きたいと思います。多数の発表よろしくお願いします。また以後発表を予定されている方は聴講者として参加することをおすすめします。 \n2018年度より、発表者は事例発表後に協会の事例報告を行いＭＴＤＬＰ指導者を目指す方（Aコース）と事例発表を行いＭＴＤＬＰ研修修了を目指す方（Bコース）で発表シートを選択できるようになっております。 \n発表者は、「MTDLP事例発表会発表資料変更のおしらせ」「MTDLP事例発表における発表者の皆様へ」をよく読み、資料の作成および事前準備をお願いします。発表に関しては「MTDLP事例発表会に向けたチェックリスト」を必ず参考にして準備をお願いします。 \nMTDLP事例発表会発表資料変更のおしらせ \nMTDLP事例発表における発表者の皆様へ \nMTDLP事例発表会に向けたチェックリスト \n日時\n02月16日　19：30 ～ 22：00（受付 19：15～） \n会　場\nオンライン（Zoom）\n※受付完了者に研修日の３日前（平日のみ）までにメールにてミーティングを配信します \n講　師\n調整中 \n定　員\n発表者　4名（生涯ポイント２ポイント）\n聴講者　15名（生涯ポイント２ポイント） \n受講費\n1\,000円（銀行振り込みのみ対応） \n【振込みの際のご注意】\n「振込人名」の後に「ニシ504　OT協会番号」を追加してください。\n（例：ヒョウゴタロウ　ニシ504　12345）\n※振込人名後の「ニシ504」で本研修の受講費として処理します。忘れずにご入力をお願いいたします。振込人名のみ場合は確認連絡が届く可能性があります。\n※振込時にお手元に残る振込明細書（記録）は研修会開始まで保管ください。\n※受講料の入金と下記申込ボタンからの申し込みが揃った時点で受付完了となります。\nーいずれか一方でも確認できない場合、申し込みは自動キャンセルとなります。 \n【振込先口座】→受付終了のため削除しました \n申込条件\nMTDLP基礎研修（平成28年度～現職者選択研修MTDLP）修了者 \n受講条件\nオンラインでの研修会に参加される方は、参加条件・準備事項・個人情報保護について以下の資料を必ずご確認ください。 \nオンライン研修会に参加される皆さまへ \nオンライン研修における研修情報および個人情報保護について \n締め切り\n発表申し込み　　：02月08日（木）　13時\n聴講申し込み　　：02月08日（木）　13時\n事例発表資料締切：02月09日（金） \nその他\n・聴講者は、MTDLP研修の要件を満たしません。\n・オンラインでの開催となりますので、発表者の方は当日の資料印刷は必要ありません。\n・締め切り後、研修会担当者から、発表者への連絡が必要な場合は「マイページ 個人用メールアドレス」を使用させていただきます。ご了承下さい。 \n問い合わせ先\n医療法人社団会一葉会　佐用共立病院　高見太一\nTEL:０７９０ー８２ー２３２１，mail： \n  \n申し込み受付は終了しました
URL:https://ot-hyogo.or.jp/file/event/2354
LOCATION:オンライン(Zoom)
CATEGORIES:兵庫県作業療法士会主催の研修
END:VEVENT
END:VCALENDAR