BEGIN:VCALENDAR
VERSION:2.0
PRODID:-//兵庫県作業療法士会　研修案内 - ECPv6.7.0//NONSGML v1.0//EN
CALSCALE:GREGORIAN
METHOD:PUBLISH
X-ORIGINAL-URL:https://ot-hyogo.or.jp/file
X-WR-CALDESC:兵庫県作業療法士会　研修案内 のイベント
REFRESH-INTERVAL;VALUE=DURATION:PT1H
X-Robots-Tag:noindex
X-PUBLISHED-TTL:PT1H
BEGIN:VTIMEZONE
TZID:Asia/Tokyo
BEGIN:STANDARD
TZOFFSETFROM:+0900
TZOFFSETTO:+0900
TZNAME:JST
DTSTART:20240101T000000
END:STANDARD
END:VTIMEZONE
BEGIN:VEVENT
DTSTART;TZID=Asia/Tokyo:20240217T090000
DTEND;TZID=Asia/Tokyo:20240217T170000
DTSTAMP:20260423T132050
CREATED:20240119T045800Z
LAST-MODIFIED:20240119T045800Z
UID:2295-1708160400-1708189200@ot-hyogo.or.jp
SUMMARY:日本呼吸ケア・リハビリテーション学会主催　第16回呼吸リハビリテーション研修会
DESCRIPTION:開催日時：2024年2月17日（土）9：00～17：00（講義予定） \n会　場　：兵庫医科大学　オクタホール　現地参加になります \n〇　　　〇〒650-8530 兵庫県神戸市中央区港島１丁目３−６ \n〇　　　〇交通アクセス　https://www.hyo-med.ac.jp/about/access/guide/kobe/ \n対　　象：理学療法士、作業療法士、看護師、医師等の呼吸リハビリテーションに関連する医療担当者 \n取得単位　：\n・呼吸ケア指導士認定更新単位：20単位\n・3学会合同呼吸療法認定士認定更新単位：25単位 \n主　　催　：一般社団法人日本呼吸ケア・リハビリテーション学会  呼吸リハビリテーション委員会 \n参加申込　：研修会の詳細と参加申込につきましては、下記をご参照ください。 \nhttp://jsrcr.umin.jp/16/ \nプログラムなど、詳細はチラシから確認ください。 \n  \n運営事務局：株式会社コンベンションプラス \n〒113-0034　東京都文京区湯島2-31-14　湯島ファーストジェネシスビル5階 \n電話:03-4355-1137　　E-mail: rcrk@convention-plus.com
URL:https://ot-hyogo.or.jp/file/event/%e6%97%a5%e6%9c%ac%e5%91%bc%e5%90%b8%e3%82%b1%e3%82%a2%e3%83%bb%e3%83%aa%e3%83%8f%e3%83%93%e3%83%aa%e3%83%86%e3%83%bc%e3%82%b7%e3%83%a7%e3%83%b3%e5%ad%a6%e4%bc%9a%e4%b8%bb%e5%82%ac%e3%80%80%e7%ac%ac16
LOCATION:兵庫医科大学
CATEGORIES:その他主催の研修
END:VEVENT
END:VCALENDAR