BEGIN:VCALENDAR
VERSION:2.0
PRODID:-//兵庫県作業療法士会　研修案内 - ECPv6.7.0//NONSGML v1.0//EN
CALSCALE:GREGORIAN
METHOD:PUBLISH
X-WR-CALNAME:兵庫県作業療法士会　研修案内
X-ORIGINAL-URL:https://ot-hyogo.or.jp/file
X-WR-CALDESC:兵庫県作業療法士会　研修案内 のイベント
REFRESH-INTERVAL;VALUE=DURATION:PT1H
X-Robots-Tag:noindex
X-PUBLISHED-TTL:PT1H
BEGIN:VTIMEZONE
TZID:Asia/Tokyo
BEGIN:STANDARD
TZOFFSETFROM:+0900
TZOFFSETTO:+0900
TZNAME:JST
DTSTART:20240101T000000
END:STANDARD
END:VTIMEZONE
BEGIN:VEVENT
DTSTART;TZID=Asia/Tokyo:20240223T133000
DTEND;TZID=Asia/Tokyo:20240223T160000
DTSTAMP:20260423T132016
CREATED:20231121T021112Z
LAST-MODIFIED:20231121T021112Z
UID:2068-1708695000-1708704000@ot-hyogo.or.jp
SUMMARY:第50回兵庫県医療職団体協議会研修会
DESCRIPTION:
URL:https://ot-hyogo.or.jp/file/event/%e7%ac%ac50%e5%9b%9e%e5%85%b5%e5%ba%ab%e7%9c%8c%e5%8c%bb%e7%99%82%e8%81%b7%e5%9b%a3%e4%bd%93%e5%8d%94%e8%ad%b0%e4%bc%9a%e7%a0%94%e4%bf%ae%e4%bc%9a
LOCATION:兵庫県看護協会
CATEGORIES:その他主催の研修
END:VEVENT
END:VCALENDAR