BEGIN:VCALENDAR
VERSION:2.0
PRODID:-//兵庫県作業療法士会　研修案内 - ECPv6.7.0//NONSGML v1.0//EN
CALSCALE:GREGORIAN
METHOD:PUBLISH
X-WR-CALNAME:兵庫県作業療法士会　研修案内
X-ORIGINAL-URL:https://ot-hyogo.or.jp/file
X-WR-CALDESC:兵庫県作業療法士会　研修案内 のイベント
REFRESH-INTERVAL;VALUE=DURATION:PT1H
X-Robots-Tag:noindex
X-PUBLISHED-TTL:PT1H
BEGIN:VTIMEZONE
TZID:Asia/Tokyo
BEGIN:STANDARD
TZOFFSETFROM:+0900
TZOFFSETTO:+0900
TZNAME:JST
DTSTART:20240101T000000
END:STANDARD
END:VTIMEZONE
BEGIN:VEVENT
DTSTART;TZID=Asia/Tokyo:20240315T090000
DTEND;TZID=Asia/Tokyo:20240325T170000
DTSTAMP:20260423T113934
CREATED:20240304T044821Z
LAST-MODIFIED:20240304T044821Z
UID:2499-1710493200-1711386000@ot-hyogo.or.jp
SUMMARY:令和5年度「高次脳機能障害」研修のご案内
DESCRIPTION:
URL:https://ot-hyogo.or.jp/file/event/%e4%bb%a4%e5%92%8c5%e5%b9%b4%e5%ba%a6%e3%80%8c%e9%ab%98%e6%ac%a1%e8%84%b3%e6%a9%9f%e8%83%bd%e9%9a%9c%e5%ae%b3%e3%80%8d%e7%a0%94%e4%bf%ae%e3%81%ae%e3%81%94%e6%a1%88%e5%86%85
LOCATION:WEB
CATEGORIES:その他主催の研修
END:VEVENT
BEGIN:VEVENT
DTSTART;TZID=Asia/Tokyo:20240315T200000
DTEND;TZID=Asia/Tokyo:20240315T210000
DTSTAMP:20260423T113934
CREATED:20240226T022338Z
LAST-MODIFIED:20240226T022854Z
UID:2486-1710532800-1710536400@ot-hyogo.or.jp
SUMMARY:「神戸ブロック勉強会（小児分野）」締切3.14
DESCRIPTION:◯テーマ\n「子どもの行動と愛着障害」 \n◯内容\n講義 \n◯日時\n2024年3月15日（金）　 20:00～21:00　 （19:50受付開始） \n◯場所（ツール）\nオンライン（zoomで開催） \n◯発表者\n合資会社ケアスタッフサービスみかん 楠本　涼介　氏 \n◯会場整理費\n無料 \n◯申し込み方法\nメールにて、以下の内容をお送りください。\n①氏名　　 ②所属　　 ③職種　　 ④経験年数 \n◯申し込み先\n（代表：井上） \n◯〆切\n2024年3月14日（木）17:00　 〆切後、申し込みいただいたメールアドレスへzoomの案内を送らせていただきます。
URL:https://ot-hyogo.or.jp/file/event/2486
LOCATION:オンライン(Zoom)
CATEGORIES:兵庫県作業療法士会主催の研修
END:VEVENT
END:VCALENDAR