BEGIN:VCALENDAR
VERSION:2.0
PRODID:-//兵庫県作業療法士会　研修案内 - ECPv6.7.0//NONSGML v1.0//EN
CALSCALE:GREGORIAN
METHOD:PUBLISH
X-WR-CALNAME:兵庫県作業療法士会　研修案内
X-ORIGINAL-URL:https://ot-hyogo.or.jp/file
X-WR-CALDESC:兵庫県作業療法士会　研修案内 のイベント
REFRESH-INTERVAL;VALUE=DURATION:PT1H
X-Robots-Tag:noindex
X-PUBLISHED-TTL:PT1H
BEGIN:VTIMEZONE
TZID:Asia/Tokyo
BEGIN:STANDARD
TZOFFSETFROM:+0900
TZOFFSETTO:+0900
TZNAME:JST
DTSTART:20240101T000000
END:STANDARD
END:VTIMEZONE
BEGIN:VEVENT
DTSTART;TZID=Asia/Tokyo:20240517T193000
DTEND;TZID=Asia/Tokyo:20240517T210000
DTSTAMP:20260423T084114
CREATED:20240502T023416Z
LAST-MODIFIED:20240502T023416Z
UID:2579-1715974200-1715979600@ot-hyogo.or.jp
SUMMARY:「神戸ブロック勉強会（小児分野）」締切5.16
DESCRIPTION:タイトル\n神戸ブロック勉強会（小児分野） \n内容\n片麻痺の更衣練習（チャック練習） \n日時\n5月17日（金）　19：30 ～ 21：00（入室可能19:20〜） \n会場\nオンライン開催（ZOOM） \n講師\n木村　真裕子（神戸医療福祉センターにこにこハウス） \n定　員\n人数問わず \n費用\n無料 \n申込み方法\nメールにて以下の内容をお送りください。\n①氏名　➁所属　③職種　④経験年数 \n申込み／問合せ\n （市山） \n締め切り\n5月16日（木）13時
URL:https://ot-hyogo.or.jp/file/event/2579
LOCATION:オンライン(Zoom)
CATEGORIES:兵庫県作業療法士会主催の研修
END:VEVENT
END:VCALENDAR