BEGIN:VCALENDAR
VERSION:2.0
PRODID:-//兵庫県作業療法士会　研修案内 - ECPv6.7.0//NONSGML v1.0//EN
CALSCALE:GREGORIAN
METHOD:PUBLISH
X-ORIGINAL-URL:https://ot-hyogo.or.jp/file
X-WR-CALDESC:兵庫県作業療法士会　研修案内 のイベント
REFRESH-INTERVAL;VALUE=DURATION:PT1H
X-Robots-Tag:noindex
X-PUBLISHED-TTL:PT1H
BEGIN:VTIMEZONE
TZID:Asia/Tokyo
BEGIN:STANDARD
TZOFFSETFROM:+0900
TZOFFSETTO:+0900
TZNAME:JST
DTSTART:20240101T000000
END:STANDARD
END:VTIMEZONE
BEGIN:VEVENT
DTSTART;VALUE=DATE:20240615
DTEND;VALUE=DATE:20240617
DTSTAMP:20260423T071129
CREATED:20240312T012345Z
LAST-MODIFIED:20240312T012345Z
UID:2516-1718409600-1718582399@ot-hyogo.or.jp
SUMMARY:第33回日本作業行動学会学術集会
DESCRIPTION:第33回日本作業行動学会学術集会 \n主催：日本作業行動学会 \n会期：2024年6月15日（土）・16日（日） \n会場：じゅうろくプラザ（〒500-8856 岐阜県岐阜市橋本町1丁目10-11） \n大会テーマ：人間作業モデルが導く多様性への支援 \n大会長：永井 貴士（平成医療短期大学） \nhttp://ob33gifu.kenkyuukai.jp/special/index.asp?id=42102
URL:https://ot-hyogo.or.jp/file/event/%e7%ac%ac33%e5%9b%9e%e6%97%a5%e6%9c%ac%e4%bd%9c%e6%a5%ad%e8%a1%8c%e5%8b%95%e5%ad%a6%e4%bc%9a%e5%ad%a6%e8%a1%93%e9%9b%86%e4%bc%9a
LOCATION:じゅうろくプラザ
CATEGORIES:その他主催の研修
END:VEVENT
END:VCALENDAR