BEGIN:VCALENDAR
VERSION:2.0
PRODID:-//兵庫県作業療法士会　研修案内 - ECPv6.7.0//NONSGML v1.0//EN
CALSCALE:GREGORIAN
METHOD:PUBLISH
X-WR-CALNAME:兵庫県作業療法士会　研修案内
X-ORIGINAL-URL:https://ot-hyogo.or.jp/file
X-WR-CALDESC:兵庫県作業療法士会　研修案内 のイベント
REFRESH-INTERVAL;VALUE=DURATION:PT1H
X-Robots-Tag:noindex
X-PUBLISHED-TTL:PT1H
BEGIN:VTIMEZONE
TZID:Asia/Tokyo
BEGIN:STANDARD
TZOFFSETFROM:+0900
TZOFFSETTO:+0900
TZNAME:JST
DTSTART:20240101T000000
END:STANDARD
END:VTIMEZONE
BEGIN:VEVENT
DTSTART;TZID=Asia/Tokyo:20240627T190000
DTEND;TZID=Asia/Tokyo:20240627T210000
DTSTAMP:20260423T071029
CREATED:20240527T030029Z
LAST-MODIFIED:20240913T041503Z
UID:2652-1719514800-1719522000@ot-hyogo.or.jp
SUMMARY:510「作業療法士に必要な疼痛に関する基礎知識と評価」締切6.20
DESCRIPTION:6月24日（月）12時20分頃に研修に関するミーティング情報をPeatixから送信しました（以下参照）\n510　但馬ブロック第１回研修会（6/27）受付完了者へメールを送信しました \nタイトル\n但馬ブロック研修会　「作業療法士に必要な疼痛に関する基礎知識と評価」 \n内　容\nリハビリ場面にて発生する痛みについてのメカニズムを知り、日々の臨床に活かす \n日　時\n6月27日（木）　19：00 ～ 21：00（受付 18：45～） \n会　場\nオンライン（Zoom）\n※受付完了者に研修日の３日前（平日のみ）までにPeatixのメッセージからミーティングを配信します \n講　師\n田中陽一 先生　(兵庫医科大学リハビリテーション学部作業療法学科　講師) \n定　員\n30名 \n生涯教育ポイント\n☒　２P付与されます \n受講費\n（いずれもPeatixシステム利用料150円を含む）\n・兵庫県士会員：1\,150円\n・OT協会にも他府県士にも入会しているOT：1\,150円\n・OT協会のみ入会しているOT（県士会未入会）：2\,150円\n・OT以外の医療職・介護職（PT，ST，看護師等）：650円\n・OT協会休会中の方：無料（※ただし受講ポイントは付与されません） \n※上記以外のOTは受講資格なし \n申込み条件\n☒　兵庫県士会員\n☒　日本OT協会及び他府県士会の両方に所属するOT\n☒　日本OT協会・他府県士会の一方のみ在籍している、またはいずれにも在籍していないOT\n☒　他職種、 \n兵庫県士会員として申し込むには申込の時点で兵庫県作業療法士会会員である必要があります\n※条件を満たしていない方からの申し込みは事務局にてキャンセル手続きを自動的に行いますので予めご了承ください。\n（会員か否かの確認はマイページへのログインの可否で判断できます。不明な人はまずはマイページログインができるか試してください。） \n受講条件\nオンラインでの研修会に参加される方は、参加条件・準備事項・個人情報保護について以下の資料を必ずご確認ください。 \nオンライン研修会に参加される皆さまへ \nオンライン研修における研修情報および個人情報保護について \n締め切り\n6月20日（木）13時 \nその他\n事務局での自動キャンセル扱いとなった方には「ミーティング情報配信メッセージ」が届きません。また自動キャンセル時に返金手続きも完了しています。 \n問い合わせ先\n医療法人社団　絹和会　但馬病院　小西浩之\n病院代表電話　079‐662‐2631\nメールアドレス　 \n申し込み受付\n以下のURLからお願いします\nhttps://peatix.com/event/3953004/view
URL:https://ot-hyogo.or.jp/file/event/2652
LOCATION:オンライン(Zoom)
CATEGORIES:兵庫県作業療法士会主催の研修
END:VEVENT
END:VCALENDAR