BEGIN:VCALENDAR
VERSION:2.0
PRODID:-//兵庫県作業療法士会　研修案内 - ECPv6.7.0//NONSGML v1.0//EN
CALSCALE:GREGORIAN
METHOD:PUBLISH
X-WR-CALNAME:兵庫県作業療法士会　研修案内
X-ORIGINAL-URL:https://ot-hyogo.or.jp/file
X-WR-CALDESC:兵庫県作業療法士会　研修案内 のイベント
REFRESH-INTERVAL;VALUE=DURATION:PT1H
X-Robots-Tag:noindex
X-PUBLISHED-TTL:PT1H
BEGIN:VTIMEZONE
TZID:Asia/Tokyo
BEGIN:STANDARD
TZOFFSETFROM:+0900
TZOFFSETTO:+0900
TZNAME:JST
DTSTART:20240101T000000
END:STANDARD
END:VTIMEZONE
BEGIN:VEVENT
DTSTART;TZID=Asia/Tokyo:20240706T100000
DTEND;TZID=Asia/Tokyo:20240706T120000
DTSTAMP:20260423T054319
CREATED:20240626T121957Z
LAST-MODIFIED:20240626T122139Z
UID:2768-1720260000-1720267200@ot-hyogo.or.jp
SUMMARY:「第1回但馬ブロック勉強会（交流会）」
DESCRIPTION:日時\n7月6日（土）　10：00～12：00 \n会場\n但馬長寿の郷　すこやかセンター \n内容\n最新の福祉用具に触れよう\n意見交換を実施。\n昨年より対面での勉強会を再開しております。\n新人からベテランまで大勢の参加をお待ちしてます。\n但馬のリハ職がつながればと考えています \nチラシ\n　チラシのダウンロードはこちら \n申し込み\nFAXかメールで申し込み\n\n–\n \n 
URL:https://ot-hyogo.or.jp/file/event/2768
LOCATION:但馬長寿の郷
CATEGORIES:兵庫県作業療法士会主催の研修
END:VEVENT
END:VCALENDAR