BEGIN:VCALENDAR
VERSION:2.0
PRODID:-//兵庫県作業療法士会　研修案内 - ECPv6.7.0//NONSGML v1.0//EN
CALSCALE:GREGORIAN
METHOD:PUBLISH
X-ORIGINAL-URL:https://ot-hyogo.or.jp/file
X-WR-CALDESC:兵庫県作業療法士会　研修案内 のイベント
REFRESH-INTERVAL;VALUE=DURATION:PT1H
X-Robots-Tag:noindex
X-PUBLISHED-TTL:PT1H
BEGIN:VTIMEZONE
TZID:Asia/Tokyo
BEGIN:STANDARD
TZOFFSETFROM:+0900
TZOFFSETTO:+0900
TZNAME:JST
DTSTART:20240101T000000
END:STANDARD
END:VTIMEZONE
BEGIN:VEVENT
DTSTART;TZID=Asia/Tokyo:20240710T190000
DTEND;TZID=Asia/Tokyo:20240710T200000
DTSTAMP:20260423T054419
CREATED:20240604T075029Z
LAST-MODIFIED:20240604T075228Z
UID:2713-1720638000-1720641600@ot-hyogo.or.jp
SUMMARY:「丹波北播磨ブロック意見交換会」締切7.8
DESCRIPTION:テーマ\n丹波北播磨ブロック意見交換会 \n内容\n①丹波北播磨ブロック今年度の活動予定 \n→研修会、現職者共通研修事例検討・事例報告　等 \n②意見交換会 \n→今後ブロックで取り扱って欲しい研修会　等 \n日時\n2024年7月10日（水）　19：00－20：00（18：50受付開始） \n場所\nZOOMを用いてのオンライン \n参加費\n無料 \n申し込み方法\n以下の内容を記載し、メールにてお申込み下さい。\n①氏名\n②所属\n③経験年数 \n申し込み先\n\n（画像などを設置） \n問い合わせ際\n介護老人保健施設　サンビラ三木　永尾 \nTEL：0794-70-8202 \n〆切\n2024年7月8日（月）13:00\n〆切後、申し込みいただいたメールアドレスへzoomの案内を送らせていただきます。 \n備考\n本年度入職された方や他ブロックから新たに当ブロックに入られた方は顔合わせも兼ねてご参加頂けると幸いです。 \n又、現職者共通研修事例検討・事例報告にて発表を予定されている方は発表会当日までのスケジュールや発表形式をお知らせしますので是非ご参加下さい。
URL:https://ot-hyogo.or.jp/file/event/2713
LOCATION:オンライン(Zoom)
CATEGORIES:兵庫県作業療法士会主催の研修
END:VEVENT
END:VCALENDAR