BEGIN:VCALENDAR
VERSION:2.0
PRODID:-//兵庫県作業療法士会　研修案内 - ECPv6.7.0//NONSGML v1.0//EN
CALSCALE:GREGORIAN
METHOD:PUBLISH
X-WR-CALNAME:兵庫県作業療法士会　研修案内
X-ORIGINAL-URL:https://ot-hyogo.or.jp/file
X-WR-CALDESC:兵庫県作業療法士会　研修案内 のイベント
REFRESH-INTERVAL;VALUE=DURATION:PT1H
X-Robots-Tag:noindex
X-PUBLISHED-TTL:PT1H
BEGIN:VTIMEZONE
TZID:Asia/Tokyo
BEGIN:STANDARD
TZOFFSETFROM:+0900
TZOFFSETTO:+0900
TZNAME:JST
DTSTART:20240101T000000
END:STANDARD
END:VTIMEZONE
BEGIN:VEVENT
DTSTART;TZID=Asia/Tokyo:20240730T200000
DTEND;TZID=Asia/Tokyo:20240730T213000
DTSTAMP:20260423T042353
CREATED:20240502T140558Z
LAST-MODIFIED:20240726T043157Z
UID:2603-1722369600-1722375000@ot-hyogo.or.jp
SUMMARY:507「自立生活訓練センターでの自動車運転を含めた移動支援」締切7.24
DESCRIPTION:7月26日（金）13時20分頃に研修に関するミーティング情報をPeatixから送信しました（以下参照）\n507　自動車運転支援委員会研修（7/30）受付完了者へメールを送信しました \nタイトル\n自動車運転支援委員会\n「自立生活訓練センターでの自動車運転を含めた移動支援」 \n内　容\n障害者支援施設 自立生活訓練センターでの自動車運転評価・支援と、自動車以外での外出支援についての講義 \n日　時\n７月３０日（火）２０：００ ～ ２１：３０（受付 １９：４５～） \n会　場\nオンライン（Zoom）\n※受付完了者に研修日の３日前（平日のみ）までにメールにてミーティングを配信します \n講　師\n兵庫県立リハビリテーション中央病院\n作業療法士　酒井 達也　先生 \n定　員\n50名 \n生涯教育ポイント\n☒　２P付与されます \n受講費\n・兵庫県作業療法士会員：1\,150円\n・その他　　　　　　　：2\,150円\n（いずれもPeatix利用料150円を含む） \n申込み条件\n☒　兵庫県士会員\n☒　日本OT協会・他府県士会の一方のみ在籍している、またはいずれにも在籍していないOT\n☒　他職種、一般 \n兵庫県士会員として申し込むには申込の時点で兵庫県作業療法士会会員である必要があります \n※条件を満たしていない方からの申し込みは事務局にてキャンセル手続きを自動的に行いますので予めご了承ください。 \n　（会員か否かの確認はマイページへのログインの可否で判断できます。不明な人はまずはマイページログインができるか試してください。） \n受講条件\nオンラインでの研修会に参加される方は、参加条件・準備事項・個人情報保護について以下の資料を必ずご確認ください。 \nオンライン研修会に参加される皆さまへ \nオンライン研修における研修情報および個人情報保護について \n締め切り\n７月２４日（水）13時 \n問い合わせ先\n自動車運転支援委員会 笹沼\n \n申し込み受付\n以下のURLからお願いします\nhttps://peatix.com/event/3939283/view
URL:https://ot-hyogo.or.jp/file/event/2603
LOCATION:オンライン(Zoom)
CATEGORIES:兵庫県作業療法士会主催の研修
END:VEVENT
END:VCALENDAR