BEGIN:VCALENDAR
VERSION:2.0
PRODID:-//兵庫県作業療法士会　研修案内 - ECPv6.7.0//NONSGML v1.0//EN
CALSCALE:GREGORIAN
METHOD:PUBLISH
X-WR-CALNAME:兵庫県作業療法士会　研修案内
X-ORIGINAL-URL:https://ot-hyogo.or.jp/file
X-WR-CALDESC:兵庫県作業療法士会　研修案内 のイベント
REFRESH-INTERVAL;VALUE=DURATION:PT1H
X-Robots-Tag:noindex
X-PUBLISHED-TTL:PT1H
BEGIN:VTIMEZONE
TZID:Asia/Tokyo
BEGIN:STANDARD
TZOFFSETFROM:+0900
TZOFFSETTO:+0900
TZNAME:JST
DTSTART:20240101T000000
END:STANDARD
END:VTIMEZONE
BEGIN:VEVENT
DTSTART;TZID=Asia/Tokyo:20241003T190000
DTEND;TZID=Asia/Tokyo:20241003T200000
DTSTAMP:20260423T012504
CREATED:20240826T050655Z
LAST-MODIFIED:20240826T051753Z
UID:2954-1727982000-1727985600@ot-hyogo.or.jp
SUMMARY:「令和6年度　第1回北播磨地域リハビリテーション研修会」
DESCRIPTION:チラシ\n　チラシのダウンロードはこちら \n– \nタイトル\n令和6年度　第1回北播磨地域リハビリテーション研修会 \n内容\n実践事例で学ぶセラピストの介護予防活動の実際\n～事例からみるセラピストの関わり方～ \n日時\n10月3日（木曜日）　19：00 ～ 20：00（受付 18：30～） \n会場\n小野市うるおい交流館エクラ大会議室 \n講師\n浅井　剛先生　（理学療法士　関西医科大学　准教授） \n定　員\n100名 \n生涯教育ポイント\n☒　付与対象外です \n参加費\n無料 \n対　象\n丹波・北播磨地域で勤務されているリハビリ専門職の方 \n問い合わせ先\n 北播磨圏域リハ 奥野
URL:https://ot-hyogo.or.jp/file/event/2954
LOCATION:小野市うるおい交流館エクラ大会議室
CATEGORIES:兵庫県作業療法士会主催の研修
END:VEVENT
END:VCALENDAR