BEGIN:VCALENDAR
VERSION:2.0
PRODID:-//兵庫県作業療法士会　研修案内 - ECPv6.7.0//NONSGML v1.0//EN
CALSCALE:GREGORIAN
METHOD:PUBLISH
X-WR-CALNAME:兵庫県作業療法士会　研修案内
X-ORIGINAL-URL:https://ot-hyogo.or.jp/file
X-WR-CALDESC:兵庫県作業療法士会　研修案内 のイベント
REFRESH-INTERVAL;VALUE=DURATION:PT1H
X-Robots-Tag:noindex
X-PUBLISHED-TTL:PT1H
BEGIN:VTIMEZONE
TZID:Asia/Tokyo
BEGIN:STANDARD
TZOFFSETFROM:+0900
TZOFFSETTO:+0900
TZNAME:JST
DTSTART:20250101T000000
END:STANDARD
END:VTIMEZONE
BEGIN:VEVENT
DTSTART;TZID=Asia/Tokyo:20250202T100000
DTEND;TZID=Asia/Tokyo:20250202T120000
DTSTAMP:20260422T191644
CREATED:20241115T072221Z
LAST-MODIFIED:20250130T035951Z
UID:3366-1738490400-1738497600@ot-hyogo.or.jp
SUMMARY:545「神戸ブロック　現職者共通研修 事例検討・事例報告（身障・精神分野合同開催）」締切(発表/検討)12.20 (聴講)1.20
DESCRIPTION:1月29日（水）14時10分頃に研修に関するミーティング情報をPeatixから送信しました（以下参照) \n→1月30日（木）12時55分頃にメッセージを再送しました。件名に（再送）とついているメッセージをご確認ください。 \n545 神戸ブロック現職共通研修事例検討・事例報告（2/2）受付完了者へメールを送信しました \nタイトル\n神戸ブロック　現職者共通研修 事例検討・事例報告（身障・精神分野合同開催）\n※今年度は身障・精神分野の合同開催です。 \n日　時\n２０２５年２月２日（日曜日）　10：00～ 12：00予定（受付 9：20～）\n≪事前接続テスト≫2025年１月30日（木）19:00～19:30 Zoom開催 \n会　場\nオンライン（Zoom）\n※受付完了者に研修日の３日前（平日のみ）までにPeatixメッセージからミーティング情報を配信します。同メッセージ内で事前接続テストのミーティング情報もお知らせする予定です。 \n定　員\n発表者　５０名　（生涯教育ポイント２P）\n検討者　５０名　（生涯教育ポイント２P）\n聴講者　100名　（生涯教育ポイント非該当） \n受講費\n発表者及び検討者　1\,000円\n同時履修者　　　　2\,000円\n※別途Peatix利用料150円が加算されます\n※聴講者は受講費不要です \n申込条件\n発表者；兵庫県作業療法士会会員であること\n検討者；OT協会員であること\n聴講者；特になし\n※申込条件がある場合、申込の時点でその会員資格を有する必要があります\n※条件を満たしていない方からの申し込みは事務局にてキャンセル手続きを自動的に行いますので予めご了承ください。\n（兵庫県士会員か否かの確認はマイページへのログインの可否で判断できます。不明な人はまずはマイページログインができるか試してください。） \n受講条件\nオンラインでの研修会に参加される方は、参加条件・準備事項・個人情報保護について以下の資料を必ずご確認ください。 \nオンライン研修会に参加される皆さまへ\nオンライン研修における研修情報および個人情報保護について \n締め切り\n発表者　締め切り　12月20日（金）13時\n検討者　締め切り　12月20日（金）13時\n聴講者　締め切り　2025年1月20日（月）13時 \n事例報告指導者について\n 発表者には受付時に「事例報告指導者の情報」を入力していただきます。氏名、OT協会会員番号、所属先を確認の上、申し込みをお願いします。\n 事例報告指導者は日本作業療法士協会会員かつ都道府県作業療法士会会員であり、生涯教育制度基礎研修修了者が条件となります\n 事例報告指導者が不在の場合、下記の問い合わせ先e-mailへその旨をご連絡ください。ブロックより事例報告指導者の紹介を致します。\n 事例報告指導者の報告会当日の出席につきましては、可能な限りご出席頂きますようお願いします。ご参加いただく場合は検討者または聴講者の申し込みをお願いします。 \nその他\n 事前説明会は開催しません。発表者は以下の発表者事前説明（PDF）の内容を確認し、準備をすすめいただきますようお願いいたします。\n申し込み後に発表や検討をキャンセルされる場合は、県士会事務局までご連絡をお願いします。\n－\n　2024年度　現職者共通研修　事例報告・事例検討　発表者事前説明（PDF） \n 事務局での自動キャンセル扱いとなった方には「ミーティング情報配信メッセージ」が届きません。また自動キャンセル時に返金手続きも完了しています \n問い合わせ先\n神戸百年記念病院　柳川真有美　 \n申し込み受付\n締め切りを過ぎたため終了しています \n 
URL:https://ot-hyogo.or.jp/file/event/3366
LOCATION:オンライン(Zoom)
CATEGORIES:兵庫県作業療法士会主催の研修
END:VEVENT
END:VCALENDAR