BEGIN:VCALENDAR
VERSION:2.0
PRODID:-//兵庫県作業療法士会　研修案内 - ECPv6.7.0//NONSGML v1.0//EN
CALSCALE:GREGORIAN
METHOD:PUBLISH
X-WR-CALNAME:兵庫県作業療法士会　研修案内
X-ORIGINAL-URL:https://ot-hyogo.or.jp/file
X-WR-CALDESC:兵庫県作業療法士会　研修案内 のイベント
REFRESH-INTERVAL;VALUE=DURATION:PT1H
X-Robots-Tag:noindex
X-PUBLISHED-TTL:PT1H
BEGIN:VTIMEZONE
TZID:Asia/Tokyo
BEGIN:STANDARD
TZOFFSETFROM:+0900
TZOFFSETTO:+0900
TZNAME:JST
DTSTART:20250101T000000
END:STANDARD
END:VTIMEZONE
BEGIN:VEVENT
DTSTART;TZID=Asia/Tokyo:20250206T190000
DTEND;TZID=Asia/Tokyo:20250206T210000
DTSTAMP:20260422T191552
CREATED:20241216T113530Z
LAST-MODIFIED:20250203T043520Z
UID:3467-1738868400-1738875600@ot-hyogo.or.jp
SUMMARY:549「第4回 東播磨ブロック研修会」締切1.30
DESCRIPTION:2月3日（月）13時10分頃に研修に関するミーティング情報をPeatixから送信しました（以下参照) \n当日の準備物についても案内していますので必ずメッセージをご確認ください \n549 東播磨ブロック第４回ブロック研修会（2/6）受付完了者へメールを送信しました \nタイトル\n第4回 東播磨ブロック研修会　「摂食嚥下の基本と食上げのポイント」 \n内容\nSTがおらずOTが評価・判断せざるを得ない施設やOT場面において適切に判断することができれば早期にSTへと相談し、対象者の食支援をすすめることができる。そのためにも、摂食嚥下の基本を理解するとともに、食形態UPを行なっていくにあたり、STがどのように評価し、見極めを行なっているのかを理解し、今後実践していくことができることを目指す。 \n日時\n2025年2月6日（木曜日）　19：00 ～ 21:00（受付 18:30～）\n※受付完了者に研修日の３日前（平日のみ）までにPeatixメッセージからミーティング情報などを配信します \n会場\nハイブリッド開催\n現地：順心リハビリテーション病院　中研修室\nオンライン：Zoom \n講師\n介護老人保健施設　恵泉　福島ＳＴ \n定　員\n会場参加：40名　オンライン参加：100名 \n生涯教育ポイント\n☒　２P付与されます \n申込み条件と受講費\n\n\n\n☒　兵庫県士会員\n１，０００円\n\n\n☒　OT協会及び他府県士会の両方に入会しているOT\n兵庫県士会員と同額\n\n\n☒　OT協会のみ入会しているOT\n兵庫県士会員の倍額\n\n\n☒　OT協会休会中のOT\n0円（生涯教育ポイント付与無）\n\n\n☒　他職種（OT以外の医療職・介護職など）\n兵庫県士会員の半額\n\n\n\n–\n※上記以外のOTは受講できません。\n※有料の場合、すべての受講費に別途Peatix利用料150円が加算されます\n※申込条件がある場合、申込の時点でその会員資格を有する必要があります\n※条件を満たしていない方からの申し込みは事務局にてキャンセル手続きを自動的に行いますので予めご了承ください。 \n（兵庫県士会員か否かの確認はマイページへのログインの可否で判断できます。不明な人はまずはマイページログインができるか試してください。） \n締め切り\n2025年1月30日（木）13時 \nその他\n事務局での自動キャンセル扱いとなった方には「ミーティング情報配信メッセージ」が届きません。また自動キャンセル時に返金手続きも完了しています \n問い合わせ先\n大垣　和也（介護老人保健施設　恵泉）\n \n申し込み受付\n申し込み期日を過ぎたため終了しています
URL:https://ot-hyogo.or.jp/file/event/3467
LOCATION:ハイブリッド開催
CATEGORIES:兵庫県作業療法士会主催の研修
END:VEVENT
END:VCALENDAR