BEGIN:VCALENDAR
VERSION:2.0
PRODID:-//兵庫県作業療法士会　研修案内 - ECPv6.7.0//NONSGML v1.0//EN
CALSCALE:GREGORIAN
METHOD:PUBLISH
X-ORIGINAL-URL:https://ot-hyogo.or.jp/file
X-WR-CALDESC:兵庫県作業療法士会　研修案内 のイベント
REFRESH-INTERVAL;VALUE=DURATION:PT1H
X-Robots-Tag:noindex
X-PUBLISHED-TTL:PT1H
BEGIN:VTIMEZONE
TZID:Asia/Tokyo
BEGIN:STANDARD
TZOFFSETFROM:+0900
TZOFFSETTO:+0900
TZNAME:JST
DTSTART:20250101T000000
END:STANDARD
END:VTIMEZONE
BEGIN:VEVENT
DTSTART;TZID=Asia/Tokyo:20250222T093000
DTEND;TZID=Asia/Tokyo:20250222T113000
DTSTAMP:20260422T191707
CREATED:20241210T121747Z
LAST-MODIFIED:20250219T032341Z
UID:3437-1740216600-1740223800@ot-hyogo.or.jp
SUMMARY:546　総務部 福祉用具係 「自助具の活用」締切2.9
DESCRIPTION:2月19日（水）12時15分頃に研修に関するミーティング情報をPeatixから送信しました（以下参照) \n546 総務部福祉用具係研修「自助具の活用」（2/22）受付完了者へメールを送信しました \nタイトル\n総務部 福祉用具係\n「自助具の活用」 \n内容\n自助具を活用する有効性や製作のために必要な道具の紹介など、自助具を製作したことのないOTにも理解しやすい内容になっています。また、実際に活用した症例の紹介や製作した自助具を「見て・触る」こともできます。グループワークにより、具体的に症例に対してどのような自助具を作れば良いか意見交換する機会も設けています。 \n日時\n２０２５年２月２２日（土）　９:３０～１１:３０（受付開始：９：１５～） \n会場\n複合型交流拠点ウィズあかし アスピア明石北館 学習室701A\n※受付完了者には研修日の３日前（平日のみ）までPeatixメッセージから受講に関するお知らせを配信致します。 \n講師\n吉田 尚弘 先生（ろっこう医療生活協同組合　リハビリテーション部） \n定員\n２０名 \n生涯教育ポイント\n☒　２P付与されます \n申込み条件と受講費\n\n\n\n☒　兵庫県士会員\n１，０００円\n\n\n☒　OT協会及び他府県士会の両方に入会しているOT\n兵庫県士会員と同額\n\n\n☒　OT協会のみ入会しているOT\n兵庫県士会員の倍額\n\n\n☒　OT協会休会中のOT\n0円（生涯教育ポイント付与無）\n\n\n\nー\n※上記以外のOTは受講できません\n※有料の場合、すべての受講費に別途Peatix利用料150円が加算されます\n兵庫県士会員として申し込むには申込の時点で兵庫県作業療法士会会員資格を有している必要があります\n※条件を満たしていない方からの申し込みは事務局にてキャンセル手続きを自動的に行いますので予めご了承ください。\n（会員か否かの確認はマイページへのログインの可否で判断できます。不明な人はまずはマイページログインができるか試してください。） \n締め切り\n２０２５年2月9日（日）13時 \nその他\n事務局での自動キャンセル扱いとなった方には「研修に関するメッセージ」が届きません。また自動キャンセル時に返金手続きも完了しています。 \n問い合わせ先\n大仲　洋太郎（株式会社シニアスタイル）\n \n申し込み受付\n期日を過ぎたため終了しています
URL:https://ot-hyogo.or.jp/file/event/3437
LOCATION:複合型交流拠点ウィズあかし
CATEGORIES:兵庫県作業療法士会主催の研修
END:VEVENT
END:VCALENDAR